BEGIN:VCALENDAR
VERSION:2.0
PRODID:-//ChamberMaster//Event Calendar 2.0//EN
METHOD:PUBLISH
X-PUBLISHED-TTL:P3D
REFRESH-INTERVAL:P3D
CALSCALE:GREGORIAN
BEGIN:VEVENT
DTSTART:20260423T010000Z
DTEND:20260423T020000Z
X-MICROSOFT-CDO-ALLDAYEVENT:FALSE
SUMMARY:Women & Wealth Webinar
DESCRIPTION:Click here to register!
X-ALT-DESC;FMTTYPE=text/html:<span style="font-family:arial\;"><span style="font-size:20px\;"><a href="https://docs.google.com/forms/d/e/1FAIpQLSfe_sZLnESuZCoaUZt8rmpsDAktYYBZlOSG6S1bK0TSdxBDSQ/viewform">Click here to register!</a></span></span><br />\n&nbsp\;
LOCATION:Webinar
UID:e.1888.15753
SEQUENCE:3
DTSTAMP:20260420T211717Z
URL:https://business.carboncountychamber.org/events/details/women-wealth-webinar-15753
END:VEVENT

END:VCALENDAR
