BEGIN:VCALENDAR
VERSION:2.0
PRODID:-//ChamberMaster//Event Calendar 2.0//EN
METHOD:PUBLISH
X-PUBLISHED-TTL:P3D
REFRESH-INTERVAL:P3D
CALSCALE:GREGORIAN
BEGIN:VEVENT
DTSTART:20230817T153000Z
DTEND:20230817T170000Z
X-MICROSOFT-CDO-ALLDAYEVENT:FALSE
SUMMARY:Women in Business Luncheon: Navigating the Professional Virtual Workplace
DESCRIPTION:CCEDC Women in Business is delighted to invite you to an empowering and informative event\, the "Women in Business Luncheon: Navigating the Professional Virtual World." Join us for an afternoon of inspiration\, education\, and networking as we explore the ever-evolving landscape of the virtual business world.\n\nIndulge in a delectable catered lunch by Lehighton's Arteria's\, that will tantalize your taste buds while you engage in meaningful conversations with fellow attendees.\n\nPresentations by:\n\nNatalia Richards - Credit Analyst II\, The Neffs National Bank. Natalia will share her insights into the world of online banking\, discussing the latest trends\, tools\, and strategies available.\n\nChristine Beige - LVH-Carbon President\n\nChristine will take the podium to shed light on telehealth\, its increasing importance in today's climate\, and how businesses can leverage this technology to provide enhanced services and care for their employees and customers.\n\nAki Susko - Women in Business Founder and Chair\, Merkle New Stream Media Sales Manager. Aki Susko\, a visionary entrepreneur and advocate for women in business\, will offer her collection of virtual workplace tips and trade secrets. Learn how to excel in remote work environments\, foster collaboration\, and maintain work-life balance while achieving your professional goals.\n\nThis event is designed to celebrate the accomplishments of women in the business world and to empower aspiring professionals to thrive in the virtual landscape. Whether you are an entrepreneur\, executive\, or young professional\, this luncheon promises to equip you with valuable knowledge and inspire you to reach new heights in your career. Connect with like-minded professionals\, share experiences\, and establish meaningful relationships during the networking session.\n\nRSVP today and be part of this remarkable Women in Business Luncheon: Navigating the Professional Virtual World.
X-ALT-DESC;FMTTYPE=text/html:<p style="border: 0px solid rgb(217\, 217\, 227)\; box-sizing: border-box\; --tw-border-spacing-x: 0\; --tw-border-spacing-y: 0\; --tw-translate-x: 0\; --tw-translate-y: 0\; --tw-rotate: 0\; --tw-skew-x: 0\; --tw-skew-y: 0\; --tw-scale-x: 1\; --tw-scale-y: 1\; --tw-pan-x: \; --tw-pan-y: \; --tw-pinch-zoom: \; --tw-scroll-snap-strictness: proximity\; --tw-gradient-from-position: \; --tw-gradient-via-position: \; --tw-gradient-to-position: \; --tw-ordinal: \; --tw-slashed-zero: \; --tw-numeric-figure: \; --tw-numeric-spacing: \; --tw-numeric-fraction: \; --tw-ring-inset: \; --tw-ring-offset-width: 0px\; --tw-ring-offset-color: #fff\; --tw-ring-color: rgba(69\,89\,164\,.5)\; --tw-ring-offset-shadow: 0 0 transparent\; --tw-ring-shadow: 0 0 transparent\; --tw-shadow: 0 0 transparent\; --tw-shadow-colored: 0 0 transparent\; --tw-blur: \; --tw-brightness: \; --tw-contrast: \; --tw-grayscale: \; --tw-hue-rotate: \; --tw-invert: \; --tw-saturate: \; --tw-sepia: \; --tw-drop-shadow: \; --tw-backdrop-blur: \; --tw-backdrop-brightness: \; --tw-backdrop-contrast: \; --tw-backdrop-grayscale: \; --tw-backdrop-hue-rotate: \; --tw-backdrop-invert: \; --tw-backdrop-opacity: \; --tw-backdrop-saturate: \; --tw-backdrop-sepia: \; margin: 1.25em 0px\; color: rgb(55\, 65\, 81)\; font-family: Söhne\, ui-sans-serif\, system-ui\, -apple-system\, &quot\;Segoe UI&quot\;\, Roboto\, Ubuntu\, Cantarell\, &quot\;Noto Sans&quot\;\, sans-serif\, &quot\;Helvetica Neue&quot\;\, Arial\, &quot\;Apple Color Emoji&quot\;\, &quot\;Segoe UI Emoji&quot\;\, &quot\;Segoe UI Symbol&quot\;\, &quot\;Noto Color Emoji&quot\;\; font-size: 16px\; white-space-collapse: preserve\; background-color: rgb(247\, 247\, 248)\;">CCEDC Women in Business is delighted to invite you to an empowering and informative event\, the &quot\;Women in Business Luncheon: Navigating the Professional Virtual World.&quot\; Join us for an afternoon of inspiration\, education\, and networking as we explore the ever-evolving landscape of the virtual business world.</p>\n\n<p style="border: 0px solid rgb(217\, 217\, 227)\; box-sizing: border-box\; --tw-border-spacing-x: 0\; --tw-border-spacing-y: 0\; --tw-translate-x: 0\; --tw-translate-y: 0\; --tw-rotate: 0\; --tw-skew-x: 0\; --tw-skew-y: 0\; --tw-scale-x: 1\; --tw-scale-y: 1\; --tw-pan-x: \; --tw-pan-y: \; --tw-pinch-zoom: \; --tw-scroll-snap-strictness: proximity\; --tw-gradient-from-position: \; --tw-gradient-via-position: \; --tw-gradient-to-position: \; --tw-ordinal: \; --tw-slashed-zero: \; --tw-numeric-figure: \; --tw-numeric-spacing: \; --tw-numeric-fraction: \; --tw-ring-inset: \; --tw-ring-offset-width: 0px\; --tw-ring-offset-color: #fff\; --tw-ring-color: rgba(69\,89\,164\,.5)\; --tw-ring-offset-shadow: 0 0 transparent\; --tw-ring-shadow: 0 0 transparent\; --tw-shadow: 0 0 transparent\; --tw-shadow-colored: 0 0 transparent\; --tw-blur: \; --tw-brightness: \; --tw-contrast: \; --tw-grayscale: \; --tw-hue-rotate: \; --tw-invert: \; --tw-saturate: \; --tw-sepia: \; --tw-drop-shadow: \; --tw-backdrop-blur: \; --tw-backdrop-brightness: \; --tw-backdrop-contrast: \; --tw-backdrop-grayscale: \; --tw-backdrop-hue-rotate: \; --tw-backdrop-invert: \; --tw-backdrop-opacity: \; --tw-backdrop-saturate: \; --tw-backdrop-sepia: \; margin: 1.25em 0px\; color: rgb(55\, 65\, 81)\; font-family: Söhne\, ui-sans-serif\, system-ui\, -apple-system\, &quot\;Segoe UI&quot\;\, Roboto\, Ubuntu\, Cantarell\, &quot\;Noto Sans&quot\;\, sans-serif\, &quot\;Helvetica Neue&quot\;\, Arial\, &quot\;Apple Color Emoji&quot\;\, &quot\;Segoe UI Emoji&quot\;\, &quot\;Segoe UI Symbol&quot\;\, &quot\;Noto Color Emoji&quot\;\; font-size: 16px\; white-space-collapse: preserve\; background-color: rgb(247\, 247\, 248)\;">Indulge in a delectable catered lunch by Lehighton&#39\;s Arteria&#39\;s\, that will tantalize your taste buds while you engage in meaningful conversations with fellow attendees.</p>\n\n<p style="border: 0px solid rgb(217\, 217\, 227)\; box-sizing: border-box\; --tw-border-spacing-x: 0\; --tw-border-spacing-y: 0\; --tw-translate-x: 0\; --tw-translate-y: 0\; --tw-rotate: 0\; --tw-skew-x: 0\; --tw-skew-y: 0\; --tw-scale-x: 1\; --tw-scale-y: 1\; --tw-pan-x: \; --tw-pan-y: \; --tw-pinch-zoom: \; --tw-scroll-snap-strictness: proximity\; --tw-gradient-from-position: \; --tw-gradient-via-position: \; --tw-gradient-to-position: \; --tw-ordinal: \; --tw-slashed-zero: \; --tw-numeric-figure: \; --tw-numeric-spacing: \; --tw-numeric-fraction: \; --tw-ring-inset: \; --tw-ring-offset-width: 0px\; --tw-ring-offset-color: #fff\; --tw-ring-color: rgba(69\,89\,164\,.5)\; --tw-ring-offset-shadow: 0 0 transparent\; --tw-ring-shadow: 0 0 transparent\; --tw-shadow: 0 0 transparent\; --tw-shadow-colored: 0 0 transparent\; --tw-blur: \; --tw-brightness: \; --tw-contrast: \; --tw-grayscale: \; --tw-hue-rotate: \; --tw-invert: \; --tw-saturate: \; --tw-sepia: \; --tw-drop-shadow: \; --tw-backdrop-blur: \; --tw-backdrop-brightness: \; --tw-backdrop-contrast: \; --tw-backdrop-grayscale: \; --tw-backdrop-hue-rotate: \; --tw-backdrop-invert: \; --tw-backdrop-opacity: \; --tw-backdrop-saturate: \; --tw-backdrop-sepia: \; margin: 1.25em 0px\; color: rgb(55\, 65\, 81)\; font-family: Söhne\, ui-sans-serif\, system-ui\, -apple-system\, &quot\;Segoe UI&quot\;\, Roboto\, Ubuntu\, Cantarell\, &quot\;Noto Sans&quot\;\, sans-serif\, &quot\;Helvetica Neue&quot\;\, Arial\, &quot\;Apple Color Emoji&quot\;\, &quot\;Segoe UI Emoji&quot\;\, &quot\;Segoe UI Symbol&quot\;\, &quot\;Noto Color Emoji&quot\;\; font-size: 16px\; white-space-collapse: preserve\; background-color: rgb(247\, 247\, 248)\;">Presentations by:<br />\nNatalia Richards - Credit Analyst II\, The Neffs National Bank. Natalia will share her insights into the world of online banking\, discussing the latest trends\, tools\, and strategies available.</p>\n\n<p style="border: 0px solid rgb(217\, 217\, 227)\; box-sizing: border-box\; --tw-border-spacing-x: 0\; --tw-border-spacing-y: 0\; --tw-translate-x: 0\; --tw-translate-y: 0\; --tw-rotate: 0\; --tw-skew-x: 0\; --tw-skew-y: 0\; --tw-scale-x: 1\; --tw-scale-y: 1\; --tw-pan-x: \; --tw-pan-y: \; --tw-pinch-zoom: \; --tw-scroll-snap-strictness: proximity\; --tw-gradient-from-position: \; --tw-gradient-via-position: \; --tw-gradient-to-position: \; --tw-ordinal: \; --tw-slashed-zero: \; --tw-numeric-figure: \; --tw-numeric-spacing: \; --tw-numeric-fraction: \; --tw-ring-inset: \; --tw-ring-offset-width: 0px\; --tw-ring-offset-color: #fff\; --tw-ring-color: rgba(69\,89\,164\,.5)\; --tw-ring-offset-shadow: 0 0 transparent\; --tw-ring-shadow: 0 0 transparent\; --tw-shadow: 0 0 transparent\; --tw-shadow-colored: 0 0 transparent\; --tw-blur: \; --tw-brightness: \; --tw-contrast: \; --tw-grayscale: \; --tw-hue-rotate: \; --tw-invert: \; --tw-saturate: \; --tw-sepia: \; --tw-drop-shadow: \; --tw-backdrop-blur: \; --tw-backdrop-brightness: \; --tw-backdrop-contrast: \; --tw-backdrop-grayscale: \; --tw-backdrop-hue-rotate: \; --tw-backdrop-invert: \; --tw-backdrop-opacity: \; --tw-backdrop-saturate: \; --tw-backdrop-sepia: \; margin: 1.25em 0px\; color: rgb(55\, 65\, 81)\; font-family: Söhne\, ui-sans-serif\, system-ui\, -apple-system\, &quot\;Segoe UI&quot\;\, Roboto\, Ubuntu\, Cantarell\, &quot\;Noto Sans&quot\;\, sans-serif\, &quot\;Helvetica Neue&quot\;\, Arial\, &quot\;Apple Color Emoji&quot\;\, &quot\;Segoe UI Emoji&quot\;\, &quot\;Segoe UI Symbol&quot\;\, &quot\;Noto Color Emoji&quot\;\; font-size: 16px\; white-space-collapse: preserve\; background-color: rgb(247\, 247\, 248)\;">Christine Beige - LVH-Carbon President</p>\n\n<p style="border: 0px solid rgb(217\, 217\, 227)\; box-sizing: border-box\; --tw-border-spacing-x: 0\; --tw-border-spacing-y: 0\; --tw-translate-x: 0\; --tw-translate-y: 0\; --tw-rotate: 0\; --tw-skew-x: 0\; --tw-skew-y: 0\; --tw-scale-x: 1\; --tw-scale-y: 1\; --tw-pan-x: \; --tw-pan-y: \; --tw-pinch-zoom: \; --tw-scroll-snap-strictness: proximity\; --tw-gradient-from-position: \; --tw-gradient-via-position: \; --tw-gradient-to-position: \; --tw-ordinal: \; --tw-slashed-zero: \; --tw-numeric-figure: \; --tw-numeric-spacing: \; --tw-numeric-fraction: \; --tw-ring-inset: \; --tw-ring-offset-width: 0px\; --tw-ring-offset-color: #fff\; --tw-ring-color: rgba(69\,89\,164\,.5)\; --tw-ring-offset-shadow: 0 0 transparent\; --tw-ring-shadow: 0 0 transparent\; --tw-shadow: 0 0 transparent\; --tw-shadow-colored: 0 0 transparent\; --tw-blur: \; --tw-brightness: \; --tw-contrast: \; --tw-grayscale: \; --tw-hue-rotate: \; --tw-invert: \; --tw-saturate: \; --tw-sepia: \; --tw-drop-shadow: \; --tw-backdrop-blur: \; --tw-backdrop-brightness: \; --tw-backdrop-contrast: \; --tw-backdrop-grayscale: \; --tw-backdrop-hue-rotate: \; --tw-backdrop-invert: \; --tw-backdrop-opacity: \; --tw-backdrop-saturate: \; --tw-backdrop-sepia: \; margin: 1.25em 0px\; color: rgb(55\, 65\, 81)\; font-family: Söhne\, ui-sans-serif\, system-ui\, -apple-system\, &quot\;Segoe UI&quot\;\, Roboto\, Ubuntu\, Cantarell\, &quot\;Noto Sans&quot\;\, sans-serif\, &quot\;Helvetica Neue&quot\;\, Arial\, &quot\;Apple Color Emoji&quot\;\, &quot\;Segoe UI Emoji&quot\;\, &quot\;Segoe UI Symbol&quot\;\, &quot\;Noto Color Emoji&quot\;\; font-size: 16px\; white-space-collapse: preserve\; background-color: rgb(247\, 247\, 248)\;">Christine will take the podium to shed light on telehealth\, its increasing importance in today&#39\;s climate\, and how businesses can leverage this technology to provide enhanced services and care for their employees and customers.</p>\n\n<p style="border: 0px solid rgb(217\, 217\, 227)\; box-sizing: border-box\; --tw-border-spacing-x: 0\; --tw-border-spacing-y: 0\; --tw-translate-x: 0\; --tw-translate-y: 0\; --tw-rotate: 0\; --tw-skew-x: 0\; --tw-skew-y: 0\; --tw-scale-x: 1\; --tw-scale-y: 1\; --tw-pan-x: \; --tw-pan-y: \; --tw-pinch-zoom: \; --tw-scroll-snap-strictness: proximity\; --tw-gradient-from-position: \; --tw-gradient-via-position: \; --tw-gradient-to-position: \; --tw-ordinal: \; --tw-slashed-zero: \; --tw-numeric-figure: \; --tw-numeric-spacing: \; --tw-numeric-fraction: \; --tw-ring-inset: \; --tw-ring-offset-width: 0px\; --tw-ring-offset-color: #fff\; --tw-ring-color: rgba(69\,89\,164\,.5)\; --tw-ring-offset-shadow: 0 0 transparent\; --tw-ring-shadow: 0 0 transparent\; --tw-shadow: 0 0 transparent\; --tw-shadow-colored: 0 0 transparent\; --tw-blur: \; --tw-brightness: \; --tw-contrast: \; --tw-grayscale: \; --tw-hue-rotate: \; --tw-invert: \; --tw-saturate: \; --tw-sepia: \; --tw-drop-shadow: \; --tw-backdrop-blur: \; --tw-backdrop-brightness: \; --tw-backdrop-contrast: \; --tw-backdrop-grayscale: \; --tw-backdrop-hue-rotate: \; --tw-backdrop-invert: \; --tw-backdrop-opacity: \; --tw-backdrop-saturate: \; --tw-backdrop-sepia: \; margin: 1.25em 0px\; color: rgb(55\, 65\, 81)\; font-family: Söhne\, ui-sans-serif\, system-ui\, -apple-system\, &quot\;Segoe UI&quot\;\, Roboto\, Ubuntu\, Cantarell\, &quot\;Noto Sans&quot\;\, sans-serif\, &quot\;Helvetica Neue&quot\;\, Arial\, &quot\;Apple Color Emoji&quot\;\, &quot\;Segoe UI Emoji&quot\;\, &quot\;Segoe UI Symbol&quot\;\, &quot\;Noto Color Emoji&quot\;\; font-size: 16px\; white-space-collapse: preserve\; background-color: rgb(247\, 247\, 248)\;">Aki Susko - Women in Business Founder and Chair\, Merkle New Stream Media Sales Manager. Aki Susko\, a visionary entrepreneur and advocate for women in business\, will offer her collection of virtual workplace tips and trade secrets. Learn how to excel in remote work environments\, foster collaboration\, and maintain work-life balance while achieving your professional goals.</p>\n\n<p style="border: 0px solid rgb(217\, 217\, 227)\; box-sizing: border-box\; --tw-border-spacing-x: 0\; --tw-border-spacing-y: 0\; --tw-translate-x: 0\; --tw-translate-y: 0\; --tw-rotate: 0\; --tw-skew-x: 0\; --tw-skew-y: 0\; --tw-scale-x: 1\; --tw-scale-y: 1\; --tw-pan-x: \; --tw-pan-y: \; --tw-pinch-zoom: \; --tw-scroll-snap-strictness: proximity\; --tw-gradient-from-position: \; --tw-gradient-via-position: \; --tw-gradient-to-position: \; --tw-ordinal: \; --tw-slashed-zero: \; --tw-numeric-figure: \; --tw-numeric-spacing: \; --tw-numeric-fraction: \; --tw-ring-inset: \; --tw-ring-offset-width: 0px\; --tw-ring-offset-color: #fff\; --tw-ring-color: rgba(69\,89\,164\,.5)\; --tw-ring-offset-shadow: 0 0 transparent\; --tw-ring-shadow: 0 0 transparent\; --tw-shadow: 0 0 transparent\; --tw-shadow-colored: 0 0 transparent\; --tw-blur: \; --tw-brightness: \; --tw-contrast: \; --tw-grayscale: \; --tw-hue-rotate: \; --tw-invert: \; --tw-saturate: \; --tw-sepia: \; --tw-drop-shadow: \; --tw-backdrop-blur: \; --tw-backdrop-brightness: \; --tw-backdrop-contrast: \; --tw-backdrop-grayscale: \; --tw-backdrop-hue-rotate: \; --tw-backdrop-invert: \; --tw-backdrop-opacity: \; --tw-backdrop-saturate: \; --tw-backdrop-sepia: \; margin: 1.25em 0px\; color: rgb(55\, 65\, 81)\; font-family: Söhne\, ui-sans-serif\, system-ui\, -apple-system\, &quot\;Segoe UI&quot\;\, Roboto\, Ubuntu\, Cantarell\, &quot\;Noto Sans&quot\;\, sans-serif\, &quot\;Helvetica Neue&quot\;\, Arial\, &quot\;Apple Color Emoji&quot\;\, &quot\;Segoe UI Emoji&quot\;\, &quot\;Segoe UI Symbol&quot\;\, &quot\;Noto Color Emoji&quot\;\; font-size: 16px\; white-space-collapse: preserve\; background-color: rgb(247\, 247\, 248)\;">This event is designed to celebrate the accomplishments of women in the business world and to empower aspiring professionals to thrive in the virtual landscape. Whether you are an entrepreneur\, executive\, or young professional\, this luncheon promises to equip you with valuable knowledge and inspire you to reach new heights in your career. Connect with like-minded professionals\, share experiences\, and establish meaningful relationships during the networking session.</p>\n\n<p style="border: 0px solid rgb(217\, 217\, 227)\; box-sizing: border-box\; --tw-border-spacing-x: 0\; --tw-border-spacing-y: 0\; --tw-translate-x: 0\; --tw-translate-y: 0\; --tw-rotate: 0\; --tw-skew-x: 0\; --tw-skew-y: 0\; --tw-scale-x: 1\; --tw-scale-y: 1\; --tw-pan-x: \; --tw-pan-y: \; --tw-pinch-zoom: \; --tw-scroll-snap-strictness: proximity\; --tw-gradient-from-position: \; --tw-gradient-via-position: \; --tw-gradient-to-position: \; --tw-ordinal: \; --tw-slashed-zero: \; --tw-numeric-figure: \; --tw-numeric-spacing: \; --tw-numeric-fraction: \; --tw-ring-inset: \; --tw-ring-offset-width: 0px\; --tw-ring-offset-color: #fff\; --tw-ring-color: rgba(69\,89\,164\,.5)\; --tw-ring-offset-shadow: 0 0 transparent\; --tw-ring-shadow: 0 0 transparent\; --tw-shadow: 0 0 transparent\; --tw-shadow-colored: 0 0 transparent\; --tw-blur: \; --tw-brightness: \; --tw-contrast: \; --tw-grayscale: \; --tw-hue-rotate: \; --tw-invert: \; --tw-saturate: \; --tw-sepia: \; --tw-drop-shadow: \; --tw-backdrop-blur: \; --tw-backdrop-brightness: \; --tw-backdrop-contrast: \; --tw-backdrop-grayscale: \; --tw-backdrop-hue-rotate: \; --tw-backdrop-invert: \; --tw-backdrop-opacity: \; --tw-backdrop-saturate: \; --tw-backdrop-sepia: \; margin: 1.25em 0px\; color: rgb(55\, 65\, 81)\; font-family: Söhne\, ui-sans-serif\, system-ui\, -apple-system\, &quot\;Segoe UI&quot\;\, Roboto\, Ubuntu\, Cantarell\, &quot\;Noto Sans&quot\;\, sans-serif\, &quot\;Helvetica Neue&quot\;\, Arial\, &quot\;Apple Color Emoji&quot\;\, &quot\;Segoe UI Emoji&quot\;\, &quot\;Segoe UI Symbol&quot\;\, &quot\;Noto Color Emoji&quot\;\; font-size: 16px\; white-space-collapse: preserve\; background-color: rgb(247\, 247\, 248)\;">RSVP today and be part of this remarkable Women in Business Luncheon: Navigating the Professional Virtual World.</p>\n
LOCATION:CCEDC Office 137 South St\, Lehighton Pa.
UID:e.1888.12476
SEQUENCE:3
DTSTAMP:20260424T194735Z
URL:https://business.carboncountychamber.org/events/details/women-in-business-luncheon-navigating-the-professional-virtual-workplace-12476
END:VEVENT

END:VCALENDAR
