BEGIN:VCALENDAR
VERSION:2.0
PRODID:-//ChamberMaster//Event Calendar 2.0//EN
METHOD:PUBLISH
X-PUBLISHED-TTL:P3D
REFRESH-INTERVAL:P3D
CALSCALE:GREGORIAN
BEGIN:VEVENT
DTSTART:20230719T130000Z
DTEND:20230719T200000Z
X-MICROSOFT-CDO-ALLDAYEVENT:FALSE
SUMMARY:Wildlands Conservancy-Wildlife Forensics Day Camp: Trexler Nature Preserve 7/19
DESCRIPTION:How can we hone our observation skills to be better nature stewards? With a knowledgeable guide\, some of nature's mysteries can be solved with observation and reasoning skills. Learn how to interpret clues to create theories and come to conclusions. If you choose to take the challenge\, it is your job to determine who passed through Trexler Nature Preserve. Please pack a non-perishable lunch\, snacks and water for your child.
X-ALT-DESC;FMTTYPE=text/html:How can we hone our observation skills to be better nature stewards? With a knowledgeable guide\, some of nature&rsquo\;s mysteries can be solved with observation and reasoning skills. Learn how to interpret clues to create theories and come to conclusions. If you choose to take the challenge\, it is your job to determine who passed through Trexler Nature Preserve. Please pack a non-perishable lunch\, snacks and water for your child.
LOCATION:Trexler Nature Preserve\, 4935 Orchard Rd.\, Schnecksville\, PA 18078
UID:e.1888.12404
SEQUENCE:3
DTSTAMP:20260424T180531Z
URL:https://business.carboncountychamber.org/events/details/wildlands-conservancy-wildlife-forensics-day-camp-trexler-nature-preserve-7-19-12404
END:VEVENT

END:VCALENDAR
