BEGIN:VCALENDAR
VERSION:2.0
PRODID:-//ChamberMaster//Event Calendar 2.0//EN
METHOD:PUBLISH
X-PUBLISHED-TTL:P3D
REFRESH-INTERVAL:P3D
CALSCALE:GREGORIAN
BEGIN:VEVENT
DTSTART:20230831T140000Z
DTEND:20230831T150000Z
X-MICROSOFT-CDO-ALLDAYEVENT:FALSE
SUMMARY:Wildlands Conservancy - PreK Pathfinders: Little Excavators\, Wayne Grube Park 2023
DESCRIPTION:PreK pathfinders is a series of programs for 3-5 years-olds and their adults. This month: Uncover fossils and critters found in the world beneath our feet during an archaeological mission. Program is offered free of charge thanks to funding from Northampton County\, but space is limited\, so please register. This program is outdoors\, so dress for the weather. Questions? Contact Nicole Landis Nlandis@wildlandspa.org 610-965-4397 ext. 145.
X-ALT-DESC;FMTTYPE=text/html:PreK pathfinders is a series of programs for 3-5 years-olds and their adults. This month: Uncover fossils and critters found in the world beneath our feet during an archaeological mission. Program is offered free of charge thanks to funding from Northampton County\, but space is limited\, so please register. This program is outdoors\, so dress for the weather. Questions? Contact Nicole Landis Nlandis@wildlandspa.org 610-965-4397 ext. 145.
LOCATION:Wayne Grube Park\, 1200 Willowbrook Rd.\, Northampton\, PA 18067
UID:e.1888.12459
SEQUENCE:3
DTSTAMP:20260424T194041Z
URL:https://business.carboncountychamber.org/events/details/wildlands-conservancy-prek-pathfinders-little-excavators-wayne-grube-park-2023-12459
END:VEVENT

END:VCALENDAR
