BEGIN:VCALENDAR
VERSION:2.0
PRODID:-//ChamberMaster//Event Calendar 2.0//EN
METHOD:PUBLISH
X-PUBLISHED-TTL:P3D
REFRESH-INTERVAL:P3D
CALSCALE:GREGORIAN
BEGIN:VEVENT
DTSTART:20230808T140000Z
DTEND:20230808T150000Z
X-MICROSOFT-CDO-ALLDAYEVENT:FALSE
SUMMARY:Wildlands Conservancy - Pre-K Pathfinders at Trexler Nature Preserve: Into the Creek\, 2023
DESCRIPTION:PreK pathfinders is a series of programs for 3 5-year-olds and their adults. This month: Teams meet at the Jordan Creek Ford to study the collect and observe the small aquatic species that call this creek home. Closed-toe shoes required for creek access. Location: Trexler Nature Preserve: Trexler Environmental Center- 4935 Orchard Rd\, Schnecksville\, PA 18078 Program is offered free of charge thanks to funding from Lehigh County\, but space is limited\, so please register. Please only register children for each child-adult team. Questions? Contact Nicole Landis nlandis@wildlandspa.org 610-965-4397 ext. 145.
X-ALT-DESC;FMTTYPE=text/html:PreK pathfinders is a series of programs for 3&ndash\;5-year-olds and their adults. This month: Teams meet at the Jordan Creek Ford to study the collect and observe the small aquatic species that call this creek home. Closed-toe shoes required for creek access. Location: Trexler Nature Preserve: Trexler Environmental Center- 4935 Orchard Rd\, Schnecksville\, PA 18078 Program is offered free of charge thanks to funding from Lehigh County\, but space is limited\, so please register. Please only register children for each child-adult team. Questions? Contact Nicole Landis nlandis@wildlandspa.org 610-965-4397 ext. 145.
LOCATION:Trexler Environmental Center\, 4935 Orchard Rd.\, Schnecksville\, PA 18078
UID:e.1888.12460
SEQUENCE:3
DTSTAMP:20260424T195021Z
URL:https://business.carboncountychamber.org/events/details/wildlands-conservancy-pre-k-pathfinders-at-trexler-nature-preserve-into-the-creek-2023-12460
END:VEVENT

END:VCALENDAR
