BEGIN:VCALENDAR
VERSION:2.0
PRODID:-//ChamberMaster//Event Calendar 2.0//EN
METHOD:PUBLISH
X-PUBLISHED-TTL:P3D
REFRESH-INTERVAL:P3D
CALSCALE:GREGORIAN
BEGIN:VEVENT
DTSTART:20230827T170000Z
DTEND:20230827T190000Z
X-MICROSOFT-CDO-ALLDAYEVENT:FALSE
SUMMARY:Wildlands Conservancy - Get Out! for Wellness: Saylorsburg Regional Park
DESCRIPTION:West End Park offers a variety of recreational opportunities\, including 5 miles of hiking trails. The park is part of the West End Greenway\, which includes Big Woods Natural Area\, Sherwood Forest Preserve and State Gamelands 186. A moderate to challenging hike of about 2 miles on a network of single-track trails to challenge mountain bikers as well as hikers. Easy to follow\, with few roots or rocks\, and the steep downhill incline eases its way through multiple switchbacks. Leashed dogs welcome. Enjoy provided healthy snacks during the hike. 578 Evergreen Hollow Road\, Saylorsburg\, Pa.\, in Chestnuthill Township. From Route 715\, take Evergreen Hollow Road approximately two-tenths of a mile to the trailhead on your left. GPS coordinates: 40.9610 -75.4094 Get Out! for Wellness hikes are offered free of charge\; please register online\,
X-ALT-DESC;FMTTYPE=text/html:West End Park offers a variety of recreational opportunities\, including 5 miles of hiking trails. The park is part of the West End Greenway\, which includes Big Woods Natural Area\, Sherwood Forest Preserve and State Gamelands 186. A moderate to challenging hike of about 2 miles on a network of single-track trails to challenge mountain bikers as well as hikers. Easy to follow\, with few roots or rocks\, and the steep downhill incline eases its way through multiple switchbacks. Leashed dogs welcome. Enjoy provided healthy snacks during the hike. 578 Evergreen Hollow Road\, Saylorsburg\, Pa.\, in Chestnuthill Township. From Route 715\, take Evergreen Hollow Road approximately two-tenths of a mile to the trailhead on your left. GPS coordinates: 40.9610 -75.4094 Get Out! for Wellness hikes are offered free of charge\; please register online\,
LOCATION:Saylorsburg Regional Park\, 578 Evergreen Hollow Road\, Saylorsburg\, PA 18353
UID:e.1888.12458
SEQUENCE:3
DTSTAMP:20260424T195105Z
URL:https://business.carboncountychamber.org/events/details/wildlands-conservancy-get-out-for-wellness-saylorsburg-regional-park-12458
END:VEVENT

END:VCALENDAR
