BEGIN:VCALENDAR
VERSION:2.0
PRODID:-//ChamberMaster//Event Calendar 2.0//EN
METHOD:PUBLISH
X-PUBLISHED-TTL:P3D
REFRESH-INTERVAL:P3D
CALSCALE:GREGORIAN
BEGIN:VEVENT
DTSTART:20230813T170000Z
DTEND:20230813T190000Z
X-MICROSOFT-CDO-ALLDAYEVENT:FALSE
SUMMARY:Wildlands Conservancy - Get Out! for Wellness- Picton Wildlife Preserve
DESCRIPTION:This property\, owned and managed by North Branch Land Trust is located on 349 peaceful and densely forested acres in Foster Township\, this beautifully maintained natural area is home to an abundance of plants and wildlife. On a leisurely walk\, you might come across frogs\, salamanders\, chipmunks\, snakes and so much more. The preserve also serves as a respite for migratory birds and it is a favorite among local bird watchers. There are also two ponds on the property teeming with fish\, tadpoles\, dragonflies and turtles. This program is outdoors\, so dress for the weather.
X-ALT-DESC;FMTTYPE=text/html:This property\, owned and managed by North Branch Land Trust is located on 349 peaceful and densely forested acres in Foster Township\, this beautifully maintained natural area is home to an abundance of plants and wildlife. On a leisurely walk\, you might come across frogs\, salamanders\, chipmunks\, snakes and so much more. The preserve also serves as a respite for migratory birds and it is a favorite among local bird watchers. There are also two ponds on the property teeming with fish\, tadpoles\, dragonflies and turtles. This program is outdoors\, so dress for the weather.
LOCATION:Picton Wildlife Sanctuary\, 424 Pond Creek Rd.\, Foster Twp.\, PA 18661
UID:e.1888.12453
SEQUENCE:3
DTSTAMP:20260424T195037Z
URL:https://business.carboncountychamber.org/events/details/wildlands-conservancy-get-out-for-wellness-picton-wildlife-preserve-12453
END:VEVENT

END:VCALENDAR
