BEGIN:VCALENDAR
VERSION:2.0
PRODID:-//ChamberMaster//Event Calendar 2.0//EN
METHOD:PUBLISH
X-PUBLISHED-TTL:P3D
REFRESH-INTERVAL:P3D
CALSCALE:GREGORIAN
BEGIN:VEVENT
DTSTART:20230819T140000Z
DTEND:20230819T160000Z
X-MICROSOFT-CDO-ALLDAYEVENT:FALSE
SUMMARY:Wildlands Conservancy - Get Out! for Wellness- Mink Trail\, Nockamixon State Park
DESCRIPTION:We're exploring yet another trail at 5\,286-acre Nockamixon State Park: Mink Trail. We won't see any mink\, but we will have good views of the lake on this 3-mile loop hike. From the parking lot we go on a single woods trail for about a mile. Then we'll be on a grassy double-track trail along several feeder plots for wildlife. This hike is appropriate for all ages\, but not for strollers or wheelchairs. Wear sturdy walking shoes\, and dress in layers appropriate for the weather. Wear your silly sunhat and sunscreen. You might want insect spray. Hiking poles or a walking stick are recommended. Wildlands will bring hiking poles\, too. Dogs on leash are welcome. There are no bathrooms available at the trail head. However\, there are bathrooms at the Marina across the lake. DIRECTIONS: Take PA-412 south and take slight right onto PA-611. Go 1.3 miles on PA-611 and turn right onto S. Park Road. Go 2.2 miles on S. Park and turn right onto Fairview/Mink Road. Mink Road becomes a dirt road\, so go slow. Go 0.8 miles to the parking lot. GPS: 40.470093\, -75.190129. For questions\, contact Brandon at bswayser@wildlandspa.org
X-ALT-DESC;FMTTYPE=text/html:We&rsquo\;re exploring yet another trail at 5\,286-acre Nockamixon State Park: Mink Trail. We won&rsquo\;t see any mink\, but we will have good views of the lake on this 3-mile loop hike. From the parking lot we go on a single woods trail for about a mile. Then we&rsquo\;ll be on a grassy double-track trail along several feeder plots for wildlife. This hike is appropriate for all ages\, but not for strollers or wheelchairs. Wear sturdy walking shoes\, and dress in layers appropriate for the weather. Wear your silly sunhat and sunscreen. You might want insect spray. Hiking poles or a walking stick are recommended. Wildlands will bring hiking poles\, too. Dogs on leash are welcome. There are no bathrooms available at the trail head. However\, there are bathrooms at the Marina across the lake. DIRECTIONS: Take PA-412 south and take slight right onto PA-611. Go 1.3 miles on PA-611 and turn right onto S. Park Road. Go 2.2 miles on S. Park and turn right onto Fairview/Mink Road. Mink Road becomes a dirt road\, so go slow. Go 0.8 miles to the parking lot. GPS: 40.470093\, -75.190129. For questions\, contact Brandon at bswayser@wildlandspa.org
LOCATION:Mink Trail at Nockamixon State Park\, Fairview/Mink Road\, Quakertown\, PA 18951
UID:e.1888.12457
SEQUENCE:3
DTSTAMP:20260424T194920Z
URL:https://business.carboncountychamber.org/events/details/wildlands-conservancy-get-out-for-wellness-mink-trail-nockamixon-state-park-12457
END:VEVENT

END:VCALENDAR
