BEGIN:VCALENDAR
VERSION:2.0
PRODID:-//ChamberMaster//Event Calendar 2.0//EN
METHOD:PUBLISH
X-PUBLISHED-TTL:P3D
REFRESH-INTERVAL:P3D
CALSCALE:GREGORIAN
BEGIN:VEVENT
DTSTART:20230820T170000Z
DTEND:20230820T200000Z
X-MICROSOFT-CDO-ALLDAYEVENT:FALSE
SUMMARY:Wildlands Conservancy-Get Out for Wellness: Devils Hole\, State Game Lands 221
DESCRIPTION:Located within State Game Lands 221 in Cresco\, Devil's Hole Trail is as mysterious as the name suggests. The trail leads along Devil's Hole Creek\, which boasts beautiful waterfalls. Make your way through the thick rhododendron bushes and dense forests. You'll eventually come to the crumbling walls and ornate fireplaces at Devil's Hole Ruins. No one knows the story behind the ruins. This 4 mile plus out-and-back is very difficult due to rocky terrain and several stream crossings. Make sure to wear shoes and pants that can get wet. Limited parking here\, but parking along the road is also an option. No restrooms. Leashed dogs permitted.
X-ALT-DESC;FMTTYPE=text/html:Located within State Game Lands 221 in Cresco\, Devil&rsquo\;s Hole Trail is as mysterious as the name suggests. The trail leads along Devil&rsquo\;s Hole Creek\, which boasts beautiful waterfalls. Make your way through the thick rhododendron bushes and dense forests. You&rsquo\;ll eventually come to the crumbling walls and ornate fireplaces at Devil&rsquo\;s Hole Ruins. No one knows the story behind the ruins. This 4 mile plus out-and-back is very difficult due to rocky terrain and several stream crossings. Make sure to wear shoes and pants that can get wet. Limited parking here\, but parking along the road is also an option. No restrooms. Leashed dogs permitted.
LOCATION:State Game Lands 221: 387 Devils Hole Rd\, Cresco\, PA 18326 Travel on either Route I-380 or Rt. 611 toward Mount Pocono to PA Route 940 E. Go east on Rt. 940. On Rt. 940 E\, about 0.7 mile past Rt. 611\, turn left onto Devil's Hole Road. Proceed about 1.1 miles to a sharp right-hand turn in the road but continue straight into the parking lot for State Game Lands #221. Park very close to other cars. It's a small lot. If you go over railroad tracks\, you went too far.
UID:e.1888.12448
SEQUENCE:3
DTSTAMP:20260424T194713Z
URL:https://business.carboncountychamber.org/events/details/wildlands-conservancy-get-out-for-wellness-devils-hole-state-game-lands-221-08-20-2023-12448
END:VEVENT

END:VCALENDAR
