BEGIN:VCALENDAR
VERSION:2.0
PRODID:-//ChamberMaster//Event Calendar 2.0//EN
METHOD:PUBLISH
X-PUBLISHED-TTL:P3D
REFRESH-INTERVAL:P3D
CALSCALE:GREGORIAN
BEGIN:VEVENT
DTSTART:20230802T130000Z
DTEND:20230802T200000Z
X-MICROSOFT-CDO-ALLDAYEVENT:FALSE
SUMMARY:Wildlands Conservancy - Eco-Friends Day Camp: Trexler Nature Preserve 8/2
DESCRIPTION:Knowledge and action can start a movement! To honor our natural world\, learn some of the simple changes humans can make to positively impact planet Earth and how to live an eco-friendlier lifestyle. Join us in becoming ecowarriors! Please pack a non-perishable lunch\, snacks\, and water for your child. This program is offered free of charge thanks to funding from Lehigh County. Questions? Contact Denise Bauer- dbauer@wildlandspa.org 610-965-4397 ext. 131.
X-ALT-DESC;FMTTYPE=text/html:Knowledge and action can start a movement! To honor our natural world\, learn some of the simple changes humans can make to positively impact planet Earth and how to live an eco-friendlier lifestyle. Join us in becoming ecowarriors! Please pack a non-perishable lunch\, snacks\, and water for your child. This program is offered free of charge thanks to funding from Lehigh County. Questions? Contact Denise Bauer- dbauer@wildlandspa.org 610-965-4397 ext. 131.
LOCATION:Trexler Nature Preserve 4935 Orchard Rd. Schnecksville\, PA 18078
UID:e.1888.12449
SEQUENCE:3
DTSTAMP:20260424T194415Z
URL:https://business.carboncountychamber.org/events/details/wildlands-conservancy-eco-friends-day-camp-trexler-nature-preserve-8-2-12449
END:VEVENT

END:VCALENDAR
