BEGIN:VCALENDAR
VERSION:2.0
PRODID:-//ChamberMaster//Event Calendar 2.0//EN
METHOD:PUBLISH
X-PUBLISHED-TTL:P3D
REFRESH-INTERVAL:P3D
CALSCALE:GREGORIAN
BEGIN:VEVENT
DTSTART:20230803T200000Z
DTEND:20230804T000000Z
X-MICROSOFT-CDO-ALLDAYEVENT:FALSE
SUMMARY:Wildlands Conservancy - Cheers To Conservation August 2023
DESCRIPTION:Having trails to hike and bike\, streams to fish\, woods to explore\, lands to hunt\, and a river to paddle right here in the Lehigh Valley is not some happy accident. It takes a passionate community of support to save land where you live\, and make sure nature is part of the place you call home. That community is Wildlands Conservancy\, and we're inviting you to join us. Since 1973\, everyday citizens\, dedicated stewards\, and local conveners have helped our nonprofit protect more than 60\,000 acres   forever. Personally\, we think that's something to celebrate. So\, we're doing just that! JOIN US THURSDAY\, AUGUST 3\, 2023\, 4 8 PM\, EIGHT OAKS FARM DISTILLERY\, 7189 ROUTE 309\, NEW TRIPOLI\, PA   We'll gather old friends and new\, enjoy sips and savors\, and together we'll raise a glass to say\, "Cheers to Conservation!"   Meet our team and learn about the amazing efforts underway to preserve more land where you live.   This is a free event. Food and beverage available for purchase.   Eight Oaks is donating 10% of the proceeds from bottle and drink sales at this event to directly support Wildlands Conservancy's conservation and education mission
X-ALT-DESC;FMTTYPE=text/html:Having trails to hike and bike\, streams to fish\, woods to explore\, lands to hunt\, and a river to paddle right here in the Lehigh Valley is not some happy accident. It takes a passionate community of support to save land where you live\, and make sure nature is part of the place you call home. That community is Wildlands Conservancy\, and we&rsquo\;re inviting you to join us. Since 1973\, everyday citizens\, dedicated stewards\, and local conveners have helped our nonprofit protect more than 60\,000 acres &ndash\; forever. Personally\, we think that&rsquo\;s something to celebrate. So\, we&rsquo\;re doing just that! JOIN US THURSDAY\, AUGUST 3\, 2023\, 4&ndash\;8 PM\, EIGHT OAKS FARM DISTILLERY\, 7189 ROUTE 309\, NEW TRIPOLI\, PA &bull\; We&rsquo\;ll gather old friends and new\, enjoy sips and savors\, and together we&rsquo\;ll raise a glass to say\, &ldquo\;Cheers to Conservation!&rdquo\; &bull\; Meet our team and learn about the amazing efforts underway to preserve more land where you live. &bull\; This is a free event. Food and beverage available for purchase. &bull\; Eight Oaks is donating 10% of the proceeds from bottle and drink sales at this event to directly support Wildlands Conservancy&rsquo\;s conservation and education mission
LOCATION:Eight Oaks Farm Distillery\, 7189 Route 309\, New Tripoli\, PA
UID:e.1888.12450
SEQUENCE:3
DTSTAMP:20260424T193840Z
URL:https://business.carboncountychamber.org/events/details/wildlands-conservancy-cheers-to-conservation-august-2023-12450
END:VEVENT

END:VCALENDAR
