BEGIN:VCALENDAR
VERSION:2.0
PRODID:-//ChamberMaster//Event Calendar 2.0//EN
METHOD:PUBLISH
X-PUBLISHED-TTL:P3D
REFRESH-INTERVAL:P3D
CALSCALE:GREGORIAN
BEGIN:VEVENT
DTSTART:20260425T130000Z
DTEND:20260425T180000Z
X-MICROSOFT-CDO-ALLDAYEVENT:FALSE
SUMMARY:Wildlands Conservancy - Bloodroot Trail Challenge
DESCRIPTION:In celebration of Earth Day\, reconnect with nature by taking on the Blood Root Trail Challenge! Choose your own experience hike\, bike\, or run on your own\, or join us for a guided group hike and discover the beauty of this scenic trail together. With a challenging 7-mile route\, you'll push your limits through rugged terrain\, diverse habitats\, and newly established trail sections. Along the way\, we may spot signs of spring\, including the delicate Bloodroot flower in bloom. Choose your adventure join the group hike for a guided experience or take on the challenge solo at your own pace. Either way\, the goal is the same: embrace the wild\, push your limits\, and conquer the trail! Complete the challenge by 2 PM on Sunday\, April 6th to earn your Blood Root Challenge completion medal. Are you ready to take on the trail? To earn your Blood Root Challenge completion medal\, register below and complete the challenge by 2 PM.. During your hike\, take a picture of a Blood Root Trail blaze and afterwards visit the Wildlands Conservancy table at the trailhead off Alpine Street to claim your medal. Details:   Location: South Mountain Preserve   Difficulty: Difficult   7 miles of moderate to strenuous terrain   Length: 7 miles total\, estimated duration: 5 hours
X-ALT-DESC;FMTTYPE=text/html:In celebration of Earth Day\, reconnect with nature by taking on the Blood Root Trail Challenge! Choose your own experience&mdash\;hike\, bike\, or run on your own\, or join us for a guided group hike and discover the beauty of this scenic trail together. With a challenging 7-mile route\, you&rsquo\;ll push your limits through rugged terrain\, diverse habitats\, and newly established trail sections. Along the way\, we may spot signs of spring\, including the delicate Bloodroot flower in bloom. Choose your adventure&mdash\;join the group hike for a guided experience or take on the challenge solo at your own pace. Either way\, the goal is the same: embrace the wild\, push your limits\, and conquer the trail! Complete the challenge by 2 PM on Sunday\, April 6th to earn your Blood Root Challenge completion medal. Are you ready to take on the trail? To earn your Blood Root Challenge completion medal\, register below and complete the challenge by 2 PM.. During your hike\, take a picture of a Blood Root Trail blaze and afterwards visit the Wildlands Conservancy table at the trailhead off Alpine Street to claim your medal. Details: &bull\; Location: South Mountain Preserve &bull\; Difficulty: Difficult &ndash\; 7 miles of moderate to strenuous terrain &bull\; Length: 7 miles total\, estimated duration: 5 hours
LOCATION:South Mountain Preserve- Boroline Park/Alpine St Entrance 554 Alpine St Emmaus\, PA 18049
UID:e.1888.15738
SEQUENCE:3
DTSTAMP:20260420T180207Z
URL:https://business.carboncountychamber.org/events/details/wildlands-conservancy-bloodroot-trail-challenge-04-25-2026-15738
END:VEVENT

END:VCALENDAR
