BEGIN:VCALENDAR
VERSION:2.0
PRODID:-//ChamberMaster//Event Calendar 2.0//EN
METHOD:PUBLISH
X-PUBLISHED-TTL:P3D
REFRESH-INTERVAL:P3D
CALSCALE:GREGORIAN
BEGIN:VEVENT
DTSTART:20251221T180000Z
DTEND:20251221T193000Z
X-MICROSOFT-CDO-ALLDAYEVENT:FALSE
SUMMARY:Welcome Winter Wildlife Hike
DESCRIPTION:Join us for a ~1.5-mile guided hike through the sanctuary as we explore animal tracks in the snow/mud\, signs of hibernation\, and the resourceful ways birds and mammals survive the winter months. Along the way\, we'll highlight seasonal changes in the forest and share tips on spotting wildlife during the colder days ahead. Questions? Contact Nicole Landis at Nlandis@wildlandspa.org. Event is free\; please register online at: https://engage.wildlandspa.org/calendar/event/350.
X-ALT-DESC;FMTTYPE=text/html:Join us for a ~1.5-mile guided hike through the sanctuary as we explore animal tracks in the snow/mud\, signs of hibernation\, and the resourceful ways birds and mammals survive the winter months. Along the way\, we&rsquo\;ll highlight seasonal changes in the forest and share tips on spotting wildlife during the colder days ahead. Questions? Contact Nicole Landis at Nlandis@wildlandspa.org. Event is free\; please register online at: https://engage.wildlandspa.org/calendar/event/350.
LOCATION:Black River Sanctuary- Church Rd. entrance\, 3499 Church Rd.\, Bethlehem\, PA 18015
UID:e.1888.15041
SEQUENCE:3
DTSTAMP:20260419T120642Z
URL:https://business.carboncountychamber.org/events/details/welcome-winter-wildlife-hike-15041
END:VEVENT

END:VCALENDAR
