BEGIN:VCALENDAR
VERSION:2.0
PRODID:-//ChamberMaster//Event Calendar 2.0//EN
METHOD:PUBLISH
X-PUBLISHED-TTL:P3D
REFRESH-INTERVAL:P3D
CALSCALE:GREGORIAN
BEGIN:VEVENT
DTSTART;VALUE=DATE:20230818
DTEND;VALUE=DATE:20230819
TRANSP:TRANSPARENT
X-MICROSOFT-CDO-ALLDAYEVENT:TRUE
SUMMARY:The Expedition - Kayaking with Pocono Whitewater
DESCRIPTION:Explore the Lehigh Gorge State Park in an inflatable kayak!\n\n\nOn The Expedition inflatable kayak trip\, you'll take control\, challenge yourself and get a great workout. Explore 12 miles of the Lehigh River when it is not open to whitewater rafters! You will independently navigate and explore the Lehigh Gorge State Park via an inflatable or sit atop kayak. You will catch eddies and ride waves while discovering the history of the Lehigh River in Jim Thorpe. Our river guides will be with you the entire time providing basic instruction on how to maneuver\, surf and navigate the river as well as help you get back in your kayak if and when you swim.\n\n\n\nPARTICIPANTS MUST:\n\n\n	Be able to swim.\n	Be in good physical shape and athletic.\n	Be 13 or older.
X-ALT-DESC;FMTTYPE=text/html:<h3>Explore the Lehigh Gorge State Park in an inflatable kayak!</h3>\n\n<div style="background:transparent\; border:0px\; padding:0px">\n<p>On The Expedition inflatable kayak trip\, you&rsquo\;ll take control\, challenge yourself and get a great workout. Explore 12 miles of the Lehigh River when it is not open to whitewater rafters! You will independently navigate and explore the Lehigh Gorge State Park via an inflatable or sit atop kayak. You will catch eddies and ride waves while discovering the history of the Lehigh River in Jim Thorpe. Our river guides will be with you the entire time providing basic instruction on how to maneuver\, surf and navigate the river as well as help you get back in your kayak if and when you swim.<br />\n<br />\n<span style="background-color:transparent">PARTICIPANTS MUST:</span></p>\n\n<ul>\n	<li>Be able to swim.</li>\n	<li>Be in good physical shape and athletic.</li>\n	<li>Be 13 or older.</li>\n</ul>\n\n<div>\n<div style="background:transparent\; border:0px\; padding:0px">\n<ul>\n</ul>\n</div>\n</div>\n</div>\n
LOCATION:Pocono Whitewater 1519 State Route 903 Jim Thorpe\, PA 18229
UID:e.1888.12246
SEQUENCE:3
DTSTAMP:20260424T211005Z
URL:https://business.carboncountychamber.org/events/details/the-expedition-kayaking-with-pocono-whitewater-08-18-2023-12246
END:VEVENT

END:VCALENDAR
