BEGIN:VCALENDAR
VERSION:2.0
PRODID:-//ChamberMaster//Event Calendar 2.0//EN
METHOD:PUBLISH
X-PUBLISHED-TTL:P3D
REFRESH-INTERVAL:P3D
CALSCALE:GREGORIAN
BEGIN:VEVENT
DTSTART:20251209T150000Z
DTEND:20251209T160000Z
X-MICROSOFT-CDO-ALLDAYEVENT:FALSE
SUMMARY:PreK Pathfinders: Winter Wonderland
DESCRIPTION:Wildlands Conservancy's Pre-K Pathfinders is for children aged 3-5 and their grown-ups. This month: It's the perfect time of year for natural ornament making and apple cider. Join us as we celebrate the coming of winter and beauty of nature! Questions? Nicole Landis\, NLandis@wildlandspa.org. This event is free\; online registration required at: https://engage.wildlandspa.org/calendar/event/266.
X-ALT-DESC;FMTTYPE=text/html:Wildlands Conservancy&#39\;s Pre-K Pathfinders is for children aged 3-5 and their grown-ups. This month: It&rsquo\;s the perfect time of year for natural ornament making and apple cider. Join us as we celebrate the coming of winter and beauty of nature! Questions? Nicole Landis\, NLandis@wildlandspa.org. This event is free\; online registration required at: https://engage.wildlandspa.org/calendar/event/266.
LOCATION:Trexler Nature Preserve- Environmental Education Center\, 4935 Orchard Road\, Schnecksville\, PA 18078
UID:e.1888.15039
SEQUENCE:3
DTSTAMP:20260419T120838Z
URL:https://business.carboncountychamber.org/events/details/prek-pathfinders-winter-wonderland-15039
END:VEVENT

END:VCALENDAR
