BEGIN:VCALENDAR
VERSION:2.0
PRODID:-//ChamberMaster//Event Calendar 2.0//EN
METHOD:PUBLISH
X-PUBLISHED-TTL:P3D
REFRESH-INTERVAL:P3D
CALSCALE:GREGORIAN
BEGIN:VEVENT
DTSTART:20230827T180000Z
DTEND:20230827T210000Z
X-MICROSOFT-CDO-ALLDAYEVENT:FALSE
SUMMARY:Palmerton's 125th Birthday Celebration with Allentwon Symphony Orchestra
DESCRIPTION:Celebrate Palmerton's 125th Birthday with a Historic "First".\n\nAn Exciting "Pops Concert" will be performed by the Allentown Symphony Orchestra under the baton of Diane Wittry\, Music Director. \n\nThe concert will feature rousing works by John Williams and others.
X-ALT-DESC;FMTTYPE=text/html:Celebrate Palmerton&#39\;s 125th Birthday with a Historic &quot\;First&quot\;.<br />\nAn Exciting &quot\;Pops Concert&quot\; will be performed by the Allentown Symphony Orchestra under the baton of Diane Wittry\, Music Director.&nbsp\;<br />\nThe concert will feature rousing works by John Williams and others.&nbsp\;
LOCATION:Palmerton High School Auditorium
UID:e.1888.12477
SEQUENCE:3
DTSTAMP:20260424T193946Z
URL:https://business.carboncountychamber.org/events/details/palmerton-s-125th-birthday-celebration-with-allentwon-symphony-orchestra-12477
END:VEVENT

END:VCALENDAR
