BEGIN:VCALENDAR
VERSION:2.0
PRODID:-//ChamberMaster//Event Calendar 2.0//EN
METHOD:PUBLISH
X-PUBLISHED-TTL:P3D
REFRESH-INTERVAL:P3D
CALSCALE:GREGORIAN
BEGIN:VEVENT
DTSTART:20220824T203000Z
DTEND:20220824T220000Z
X-MICROSOFT-CDO-ALLDAYEVENT:FALSE
SUMMARY:One Year Anniversary Ribbon Cutting Meet & Greet at Harry Packer Mansion
DESCRIPTION:Mix & Mingle at the Harry Packer Mansion and celebrate one year of new ownership\n\nEnjoy the sights and sounds of the Harry Packer Mansion\, take in history\, mix by & mingle with new contacts\, and learn more about Things to do in Jim Thorpe! \n\n\n\nRAIN OR SHINE EVENT!!!\n\n\n\nHosted by the Carbon Chamber & Economic Development Corp.\n\n\n\nThe Harry Packer Mansion ~\n\nThe Inn is located in the little Victorian village of Jim Thorpe\, PA. Jim Thorpe is a scenic paradise nestled between three mountains in northeastern Pennsylvania. Perched atop Packer Hill\, just steps from historic downtown\, the Harry Packer Mansion sits like a sentinel overlooking the village. The mansion's impressive facade could have been taken from a Gothic novel\, so much so that the building's design caught the eye of Disney Imagineers and it became the inspiration for Walt Disney World's "Haunted Mansion"! The mansion features murder mystery weekends\, luxurious lodging and Libations Lounge. www.murdermansion.com
X-ALT-DESC;FMTTYPE=text/html:<p><span style="font-size:11px\;"><big><strong>Mix &amp\; Mingle at the Harry Packer Mansion and celebrate one year of&nbsp\;new ownership</strong><br />\nEnjoy the sights and sounds of the Harry Packer&nbsp\;Mansion\, take in history\, mix by &amp\; mingle with new contacts\, and learn more about Things to do in Jim Thorpe!&nbsp\;<br />\n<br />\nRAIN OR SHINE EVENT!!!<br />\n<br />\nHosted by the Carbon Chamber &amp\; Economic Development Corp.<br />\n<br />\n<span style="font-family:verdana\;"><a href="http://murdermansion.com">The Harry Packer Mansion ~</a><br />\nThe Inn is located in the little Victorian village of Jim Thorpe\, PA. Jim Thorpe is a scenic paradise nestled between three mountains in northeastern Pennsylvania. Perched atop Packer Hill\, just steps from historic downtown\, the Harry Packer Mansion sits like a sentinel overlooking the village. The mansion&#39\;s impressive facade could have been taken from a Gothic novel\, so much so that the building&#39\;s design caught the eye of Disney Imagineers and it became the inspiration for Walt Disney World&#39\;s &quot\;Haunted Mansion&quot\;! The mansion features murder mystery weekends\, luxurious lodging and Libations Lounge. www.murdermansion.com</span></big></span><br />\n<br />\n<br />\n<br />\n<br />\n<br />\n&nbsp\;</p>\n
LOCATION:The Harry Packer Mansion 19 Packer Avenue Jim Thorpe
UID:e.1888.11419
SEQUENCE:3
DTSTAMP:20260423T111525Z
URL:https://business.carboncountychamber.org/events/details/one-year-anniversary-ribbon-cutting-meet-greet-at-harry-packer-mansion-11419
END:VEVENT

END:VCALENDAR
