BEGIN:VCALENDAR
VERSION:2.0
PRODID:-//ChamberMaster//Event Calendar 2.0//EN
METHOD:PUBLISH
X-PUBLISHED-TTL:P3D
REFRESH-INTERVAL:P3D
CALSCALE:GREGORIAN
BEGIN:VEVENT
DTSTART:20230801T210000Z
DTEND:20230802T010000Z
X-MICROSOFT-CDO-ALLDAYEVENT:FALSE
SUMMARY:National Night Out - Lehighton
DESCRIPTION:National Night Out in Lehighton will be co-hosted by the Lehighton Downtown Partnership and the Lehighton Borough Police Department.  Join us for a fun night with food trucks\, touch a truck\, bounce house\, face painting and more!   State Police will be in attendance with motorcycles. Lehighton Crime Watch will be on hand as well as the PSP Drone.  \n\n\n\nThe Shriners will be at National Night Out handing out popcorn\, snowcones and cotton candy!\n\n\n\nFood trucks\, Face Painting\, Gombert Family Games will be there with a Bounce House.  While having all that fun\, listen to Layne "Doc" Roberts as he entertains us with music and banter.  \n\n\n\nLehighton Downtown Borough Park\n\n(by the Fountain)
X-ALT-DESC;FMTTYPE=text/html:National Night Out in Lehighton will be co-hosted by the Lehighton Downtown Partnership and the Lehighton Borough Police Department.&nbsp\; Join us for a fun night with food trucks\, touch a truck\, bounce house\, face painting and more!&nbsp\; &nbsp\;State Police will be in attendance with motorcycles. Lehighton Crime Watch will be on hand as well as the PSP Drone.&nbsp\;&nbsp\;<br />\n<br />\nThe Shriners will be at National Night Out handing out popcorn\, snowcones and cotton candy!<br />\n<br />\nFood trucks\, Face Painting\, Gombert Family Games will be there with a Bounce House.&nbsp\; While having all that fun\, listen to Layne &quot\;Doc&quot\; Roberts as he entertains us with music and banter.&nbsp\;&nbsp\;<br />\n<br />\nLehighton Downtown Borough Park<br />\n(by the Fountain)<br />\n&nbsp\;
LOCATION:Lehighton Downtown Lower Borough Park (by the fountain)
UID:e.1888.12039
SEQUENCE:3
DTSTAMP:20260424T194700Z
URL:https://business.carboncountychamber.org/events/details/national-night-out-lehighton-12039
END:VEVENT

END:VCALENDAR
