BEGIN:VCALENDAR
VERSION:2.0
PRODID:-//ChamberMaster//Event Calendar 2.0//EN
METHOD:PUBLISH
X-PUBLISHED-TTL:P3D
REFRESH-INTERVAL:P3D
CALSCALE:GREGORIAN
BEGIN:VEVENT
DTSTART:20230819T233000Z
DTEND:20230820T035500Z
X-MICROSOFT-CDO-ALLDAYEVENT:FALSE
SUMMARY:Moonlight Rafting - Pocono Whitewater
DESCRIPTION:Journey under the stars on this Lehigh River rafting adventure.\n\n\nA Pocono Whitewater Exclusive Trip\n\nOur Moonlight Rafting Adventures provide a nighttime outdoor experience like no other. Take off at sundown to explore the river under a midsummer moon. Travel down 8 miles of the Lehigh River in Jim Thorpe\, PA. A friendly guide will both accompany you in your raft to help you navigate through the moonlit rapids and keep you on course. Fireflies and glow sticks on your raft provide helpful light for your voyage\, as well as the moon and stars!\n\nFinally\, when you return from your expedition\, get cozy by the bonfire\, roast some marshmallows\, and enjoy a glass or two of wine. Uniquely\, it's the perfect combination of romance and adventure.
X-ALT-DESC;FMTTYPE=text/html:<h3>Journey under the stars on this Lehigh River rafting adventure.</h3>\n\n<div>\n<h2>A Pocono Whitewater Exclusive Trip</h2>\n\n<p>Our&nbsp\;Moonlight Rafting Adventures&nbsp\;provide a nighttime outdoor experience like no other. Take off at sundown to explore the river under a midsummer moon. Travel down 8 miles of the Lehigh River in Jim Thorpe\, PA. A friendly guide will both accompany you in your raft to help you navigate through the moonlit rapids and keep you on course. Fireflies and glow sticks on your raft provide helpful light for your voyage\, as well as the moon and stars!</p>\n\n<p>Finally\, when you return from your expedition\, get cozy by the bonfire\, roast some marshmallows\, and enjoy a glass or two of wine. Uniquely\, it&rsquo\;s the perfect combination of romance and adventure.</p>\n</div>\n
LOCATION:Pocono Whitewater 1519 State Route 903 Jim Thorpe\, PA 18229
UID:e.1888.12240
SEQUENCE:3
DTSTAMP:20260424T193754Z
URL:https://business.carboncountychamber.org/events/details/moonlight-rafting-pocono-whitewater-08-19-2023-12240
END:VEVENT

END:VCALENDAR
