BEGIN:VCALENDAR
VERSION:2.0
PRODID:-//ChamberMaster//Event Calendar 2.0//EN
METHOD:PUBLISH
X-PUBLISHED-TTL:P3D
REFRESH-INTERVAL:P3D
CALSCALE:GREGORIAN
BEGIN:VEVENT
DTSTART:20260430T010000Z
DTEND:20260430T020000Z
X-MICROSOFT-CDO-ALLDAYEVENT:FALSE
SUMMARY:Mommy & Me (And Daddy Too!): Smart Savings Strategies for Children & Ourselves
DESCRIPTION:To Register\, Contact Nicki Parra at nparra.finance@gmail.com
X-ALT-DESC;FMTTYPE=text/html:<span style="font-size:20px\;"><span style="font-family:arial\;">To Register\, Contact Nicki Parra at&nbsp\;<a href="mailto:nparra.finance@gmail.com">nparra.finance@gmail.com</a></span></span>
LOCATION:Webinar
UID:e.1888.15756
SEQUENCE:3
DTSTAMP:20260423T025427Z
URL:https://business.carboncountychamber.org/events/details/mommy-me-and-daddy-too-smart-savings-strategies-for-children-ourselves-15756
END:VEVENT

END:VCALENDAR
