BEGIN:VCALENDAR
VERSION:2.0
PRODID:-//ChamberMaster//Event Calendar 2.0//EN
METHOD:PUBLISH
X-PUBLISHED-TTL:P3D
REFRESH-INTERVAL:P3D
CALSCALE:GREGORIAN
BEGIN:VEVENT
DTSTART:20260528T130000Z
DTEND:20260528T213000Z
X-MICROSOFT-CDO-ALLDAYEVENT:FALSE
SUMMARY:Lobby Day for a Clean Energy Future
DESCRIPTION:Join hundreds of concerned Pennsylvanians virtually on Thursday\, May 28 for Pennsylvania's largest annual citizen lobby day for a cleaner future! PennEnvironment's staff will schedule virtual meetings with your state representative and senator\, where you'll be joined in the meetings by PennEnvironment's expert advocates and other concerned citizens from your community. Each meeting takes about 30 minutes. We'll discuss important policy proposals that will promote renewable energy and energy efficiency\, and you'll get the chance to share why climate action is important to you.
X-ALT-DESC;FMTTYPE=text/html:Join hundreds of concerned Pennsylvanians virtually on Thursday\, May 28 for Pennsylvania&rsquo\;s largest annual citizen lobby day for a cleaner future! PennEnvironment&rsquo\;s staff will schedule virtual meetings with your state representative and senator\, where you&rsquo\;ll be joined in the meetings by PennEnvironment&rsquo\;s expert advocates and other concerned citizens from your community. Each meeting takes about 30 minutes. We&rsquo\;ll discuss important policy proposals that will promote renewable energy and energy efficiency\, and you&rsquo\;ll get the chance to share why climate action is important to you.
LOCATION:Online
UID:e.1888.15739
SEQUENCE:3
DTSTAMP:20260423T174630Z
URL:https://business.carboncountychamber.org/events/details/lobby-day-for-a-clean-energy-future-15739
END:VEVENT

END:VCALENDAR
