BEGIN:VCALENDAR
VERSION:2.0
PRODID:-//ChamberMaster//Event Calendar 2.0//EN
METHOD:PUBLISH
X-PUBLISHED-TTL:P3D
REFRESH-INTERVAL:P3D
CALSCALE:GREGORIAN
BEGIN:VEVENT
DTSTART:20260121T130000Z
DTEND:20260121T190000Z
X-MICROSOFT-CDO-ALLDAYEVENT:FALSE
SUMMARY:Lehigton Communty Blood Drive
DESCRIPTION:Come donate blood at the Bethany Wesleyan Church!
X-ALT-DESC;FMTTYPE=text/html:Come donate blood at the Bethany Wesleyan Church!
LOCATION:Bethany Wesleyan Church 1122 Fairyland Road Lehighton\, PA 18235
UID:e.1888.15053
SEQUENCE:3
DTSTAMP:20260419T134652Z
URL:https://business.carboncountychamber.org/events/details/lehigton-communty-blood-drive-01-21-2026-15053
END:VEVENT

END:VCALENDAR
