BEGIN:VCALENDAR
VERSION:2.0
PRODID:-//ChamberMaster//Event Calendar 2.0//EN
METHOD:PUBLISH
X-PUBLISHED-TTL:P3D
REFRESH-INTERVAL:P3D
CALSCALE:GREGORIAN
BEGIN:VEVENT
DTSTART:20230812T130000Z
DTEND:20230812T160000Z
X-MICROSOFT-CDO-ALLDAYEVENT:FALSE
SUMMARY:Lehighton Downtown Farmers Market - 8/12/2023
DESCRIPTION:Lehighton Downtown Farmers Market\n\nNEW LOCATION - LEHIGHTON TRAILHEAD - D&L SPUR\n\n                               Sergeant Stanley Hoffman Boulevard\n\n                               Every Saturday from May 13th - October 28th\n\n                               9:00 am - noon\n\n\n\nJoin us at our unique Farmers Market!  We are a Producers Goods Farmers Market\, which means everything you see at the market is either homegrown\, homemade or handmade.    You will never find a buy and sell item at the Lehighton Downtown Farmers Market.  Purchasing can be fun with a huge variety of items including\, produce\, fruit (in season)\, dairy\, eggs\, beef\, honey\, baked goods\, pet treats\, crafts and much more!  \n\n\n\nVisit weekly as different vendors will be displaying their wares.  \n\n\n\nSee you at the Lehighton Downtown Farmers Market!
X-ALT-DESC;FMTTYPE=text/html:Lehighton Downtown Farmers Market<br />\nNEW LOCATION - LEHIGHTON TRAILHEAD - D&amp\;L SPUR<br />\n&nbsp\; &nbsp\; &nbsp\; &nbsp\; &nbsp\; &nbsp\; &nbsp\; &nbsp\; &nbsp\; &nbsp\; &nbsp\; &nbsp\; &nbsp\; &nbsp\; &nbsp\; &nbsp\;Sergeant Stanley Hoffman Boulevard<br />\n&nbsp\; &nbsp\; &nbsp\; &nbsp\; &nbsp\; &nbsp\; &nbsp\; &nbsp\; &nbsp\; &nbsp\; &nbsp\; &nbsp\; &nbsp\; &nbsp\; &nbsp\; &nbsp\;Every Saturday from May 13th - October 28th<br />\n&nbsp\; &nbsp\; &nbsp\; &nbsp\; &nbsp\; &nbsp\; &nbsp\; &nbsp\; &nbsp\; &nbsp\; &nbsp\; &nbsp\; &nbsp\; &nbsp\; &nbsp\; &nbsp\;9:00 am - noon<br />\n<br />\nJoin us at our unique Farmers Market!&nbsp\; We are a Producers Goods Farmers Market\, which means everything you see at the market is either homegrown\, homemade or handmade.&nbsp\; &nbsp\; You will never find a buy and sell item at the Lehighton Downtown Farmers Market.&nbsp\; Purchasing can be fun with a huge variety of items including\, produce\, fruit (in season)\, dairy\, eggs\, beef\, honey\, baked goods\, pet treats\, crafts and much more!&nbsp\;&nbsp\;<br />\n<br />\nVisit weekly as different vendors will be displaying their wares.&nbsp\;&nbsp\;<br />\n<br />\nSee you at the Lehighton Downtown Farmers Market!
LOCATION:Lehighton Trailhead - D&L Trail Spur Sergeant Stanley Hoffman Boulevard
UID:e.1888.12480
SEQUENCE:3
DTSTAMP:20260424T194358Z
URL:https://business.carboncountychamber.org/events/details/lehighton-downtown-farmers-market-8-12-2023-12480
END:VEVENT

END:VCALENDAR
