BEGIN:VCALENDAR
VERSION:2.0
PRODID:-//ChamberMaster//Event Calendar 2.0//EN
METHOD:PUBLISH
X-PUBLISHED-TTL:P3D
REFRESH-INTERVAL:P3D
CALSCALE:GREGORIAN
BEGIN:VEVENT
DTSTART;VALUE=DATE:20230707
DTEND;VALUE=DATE:20230710
TRANSP:TRANSPARENT
X-MICROSOFT-CDO-ALLDAYEVENT:TRUE
SUMMARY:Invasion of Normandy-Skirmish Paintball
DESCRIPTION:Invasion of Normandy (ION) 2023\n\nThe World's Largest Paintball Scenario\n\nJoin Skirmish and over 4\,000 paintball players at our Invasion of Normandy Scenario Game as we gather to recreate the Infamous World War II D-Day.  Play two days of scenario game paintball\, camp on site and shop at the largest vendor show in the world of paintball.  Plus\, all registered ION players can battle from Castle to Castle in our FREE Castle Night game on Friday.  Will you storm the beaches with the Allied Troops to keep the Axis from advancing or will you help the Axis forces to keep the Allies from advancing? Keep scrolling for game details.
X-ALT-DESC;FMTTYPE=text/html:<h2 style="text-align:center">Invasion of Normandy (ION) 2023</h2>\n\n<h4 style="text-align:center"><strong>The World&rsquo\;s Largest Paintball Scenario</strong></h4>\n\n<p>Join Skirmish and over 4\,000 paintball players at our Invasion of Normandy Scenario Game as we gather to recreate the Infamous World War II D-Day.&nbsp\; Play two days of scenario game paintball\, camp on site and shop at the largest vendor show in the world of paintball.&nbsp\; Plus\, all registered ION players can battle from Castle to Castle in our FREE Castle Night game on Friday.&nbsp\; Will you storm the beaches with the Allied Troops to keep the Axis from advancing or will you help the Axis forces to keep the Allies from advancing? Keep scrolling for game details.</p>\n
LOCATION:Skirmish USA
UID:e.1888.12125
SEQUENCE:3
DTSTAMP:20260424T194021Z
URL:https://business.carboncountychamber.org/events/details/invasion-of-normandy-skirmish-paintball-12125
END:VEVENT

END:VCALENDAR
