BEGIN:VCALENDAR
VERSION:2.0
PRODID:-//ChamberMaster//Event Calendar 2.0//EN
METHOD:PUBLISH
X-PUBLISHED-TTL:P3D
REFRESH-INTERVAL:P3D
CALSCALE:GREGORIAN
BEGIN:VEVENT
DTSTART:20251227T150000Z
DTEND:20251227T170000Z
X-MICROSOFT-CDO-ALLDAYEVENT:FALSE
SUMMARY:Get Out! For Wellness: Black River Sanctuary Hike
DESCRIPTION:Close out the year with a scenic and invigorating 3-mile hike at Wildlands Conservancy's 187-acre sanctuary! Located across from Franko Farm Recreation Area\, this beautiful preserve offers panoramic views of the Lehigh Valley and is a prime stopover for migrating birds! Questions? Contact Nicole Landis at NLandis@wildlandspa.org. Event is free\; please register online at: https://engage.wildlandspa.org/calendar/event/288.
X-ALT-DESC;FMTTYPE=text/html:Close out the year with a scenic and invigorating 3-mile hike at Wildlands Conservancy&rsquo\;s 187-acre sanctuary! Located across from Franko Farm Recreation Area\, this beautiful preserve offers panoramic views of the Lehigh Valley and is a prime stopover for migrating birds! Questions? Contact Nicole Landis at NLandis@wildlandspa.org. Event is free\; please register online at: https://engage.wildlandspa.org/calendar/event/288.
LOCATION:Black River Sanctuary- Black River Rd. entrance\, 1300 Black River Road\, Bethlehem\, PA 18015
UID:e.1888.15042
SEQUENCE:3
DTSTAMP:20260419T120838Z
URL:https://business.carboncountychamber.org/events/details/get-out-for-wellness-black-river-sanctuary-hike-15042
END:VEVENT

END:VCALENDAR
