BEGIN:VCALENDAR
VERSION:2.0
PRODID:-//ChamberMaster//Event Calendar 2.0//EN
METHOD:PUBLISH
X-PUBLISHED-TTL:P3D
REFRESH-INTERVAL:P3D
CALSCALE:GREGORIAN
BEGIN:VEVENT
DTSTART:20230821T200000Z
DTEND:20230821T220000Z
X-MICROSOFT-CDO-ALLDAYEVENT:FALSE
SUMMARY:Family Promise of Carbon County Celebrates Expansion Ribbon Cutting Ceremony
DESCRIPTION:The Carbon Chamber and Economic Development Corp. is thrilled to announce the ribbon cutting ceremony for the expansion of Family Promise of Carbon County will be held at its new Nesquehoning location 140 W. Mill St.\, 4 to 6 p.m.\, Monday\, August 21.\n\n"It's an exciting time for Family Promise of Carbon County as well as the residents who will benefit from our shelter\," said Family Promise Director Cathy Lamm. "I am humbled by the continued generosity of the community and look forward to serving the community for many years to come."\n\nFamily Promise of Carbon County\, a nonprofit 501(c)(3) organization has been making a profound impact on the lives of families facing homelessness across the country since its inception in 2011.\n\n\n\nThe new location was officially opened in February 2022\, marking a significant milestone for the non-profit. With the support of a $65\,000 grant from The Harry and Jeanette Weinberg Foundation in 2020\, Family Promise of Carbon County embarked on a transformative project to purchase and renovate the vacant West Mill Street building.
X-ALT-DESC;FMTTYPE=text/html:<span style="font-family:arial\,sans-serif\;">The Carbon Chamber and Economic Development Corp. is thrilled to announce the ribbon cutting ceremony for the expansion of Family Promise of Carbon County will be held at its new Nesquehoning location 140 W. Mill St.\, 4 to 6 p.m.\, Monday\, August 21.</span><br />\n<span style="font-family:arial\,sans-serif\;">&ldquo\;It&#39\;s an exciting time for Family Promise of Carbon County as well as the residents who will benefit&nbsp\;from our shelter\,&rdquo\; said Family Promise Director Cathy Lamm. &ldquo\;I am humbled&nbsp\;by the continued generosity of the community and look&nbsp\;forward to serving the community for many years to come.&rdquo\;</span><br />\n<span style="font-family:arial\,sans-serif\;">Family Promise of Carbon County\, a nonprofit 501(c)(3) organization has been making a profound impact on the lives of families facing homelessness across the country since its inception in 2011.</span><br />\n<br />\n<span style="font-family:arial\,sans-serif\;">The new location was officially opened in February 2022\, marking a significant milestone for the non-profit. With the support of a $65\,000 grant from The Harry and Jeanette Weinberg Foundation in 2020\, Family Promise of Carbon County embarked on a transformative project to purchase and renovate the vacant West Mill Street building. </span>
LOCATION:140 W. Mill Street\, Nesquehoning
UID:e.1888.12478
SEQUENCE:3
DTSTAMP:20260424T195303Z
URL:https://business.carboncountychamber.org/events/details/family-promise-of-carbon-county-celebrates-expansion-ribbon-cutting-ceremony-12478
END:VEVENT

END:VCALENDAR
