BEGIN:VCALENDAR
VERSION:2.0
PRODID:-//ChamberMaster//Event Calendar 2.0//EN
METHOD:PUBLISH
X-PUBLISHED-TTL:P3D
REFRESH-INTERVAL:P3D
CALSCALE:GREGORIAN
BEGIN:VEVENT
DTSTART:20230803T220000Z
DTEND:20230804T000000Z
X-MICROSOFT-CDO-ALLDAYEVENT:FALSE
SUMMARY:Fall Hotel Tax Disbursement Workshop
DESCRIPTION:Carbon Chamber and Economic Development Corp. (CCEDC) in partnership with the Pocono Mountains Visitors Bureau (PMVB) is pleased to announce a free workshop for 501c3 organizations in Carbon County on submitting applications for the 2023 fall round of the Hotel Tax Disbursement program. The workshop will be held on Thursday evening\, August 3\, 2023 from 6:00pm until 8:00pm at the CCEDC office at 137 South Street\, Lehighton.\n\n \n\nRepresentatives from PMVB will be on hand to offer training\, answer questions on what qualifies and offer best practices for submitting applications. \n\n \n\nThis is a FREE event! REGISTRATION IS REQUIRED.  Seating is limited\, so register early!
X-ALT-DESC;FMTTYPE=text/html:<span style="font-family:calibri\,sans-serif\;">Carbon Chamber and Economic Development Corp.</span> <span style="color:#444444\;"><span style="font-family:calibri\,sans-serif\;">(CCEDC) in partnership with the Pocono Mountains Visitors Bureau (PMVB) is pleased to announce a free workshop for 501c3 organizations in Carbon County on submitting applications for the 2023 fall round of the Hotel Tax Disbursement program. The workshop will be held on Thursday evening\, August 3\, 2023 from 6:00pm until 8:00pm at the CCEDC office at 137 South Street\, Lehighton.</span></span><br />\n&nbsp\;<br />\n<span style="color:#444444\;"><span style="font-family:calibri\,sans-serif\;">Representatives from PMVB will be on hand to offer training\, answer questions on what qualifies and offer best practices for submitting applications. </span></span><br />\n&nbsp\;<br />\nThis is a <strong>FREE</strong> event! <strong>REGISTRATION IS REQUIRED.</strong>&nbsp\; Seating is limited\, so register early!<br />\n<br />\n<br />\n&nbsp\;&nbsp\;
LOCATION:CCEDC Office 137 South Street Lehighton\, PA 18235
UID:e.1888.12445
SEQUENCE:3
DTSTAMP:20260424T210903Z
URL:https://business.carboncountychamber.org/events/details/fall-hotel-tax-disbursement-workshop-12445
END:VEVENT

END:VCALENDAR
