BEGIN:VCALENDAR
VERSION:2.0
PRODID:-//ChamberMaster//Event Calendar 2.0//EN
METHOD:PUBLISH
X-PUBLISHED-TTL:P3D
REFRESH-INTERVAL:P3D
CALSCALE:GREGORIAN
BEGIN:VEVENT
DTSTART:20251209T190000Z
DTEND:20251209T210000Z
X-MICROSOFT-CDO-ALLDAYEVENT:FALSE
SUMMARY:Campfire Conversations: Trail Tales!
DESCRIPTION:Join our celebration of trails\, stories\, and community at Black River Sanctuary with the final program in our Campfire Conversations series\, beginning with a guided hike to the top of Black River Sanctuary (~ 1.5 miles). At the summit\, we'll gather around a cozy campfire for Trail Tales\, sharing personal stories\, wildlife encounters\, and favorite outdoor memories. Our program will be led by Wildlands Conservancy Senior Community Engagement Specialist\, Nicole Landis\, along with a special guest. Questions? Contact Nicole Landis at Nlandis@wildlandspa.org. Event is free\; please register online at: https://engage.wildlandspa.org/calendar/event/353.
X-ALT-DESC;FMTTYPE=text/html:Join our celebration of trails\, stories\, and community at Black River Sanctuary with the final program in our Campfire Conversations series\, beginning with a guided hike to the top of Black River Sanctuary (~ 1.5 miles). At the summit\, we&rsquo\;ll gather around a cozy campfire for Trail Tales\, sharing personal stories\, wildlife encounters\, and favorite outdoor memories. Our program will be led by Wildlands Conservancy Senior Community Engagement Specialist\, Nicole Landis\, along with a special guest. Questions? Contact Nicole Landis at Nlandis@wildlandspa.org. Event is free\; please register online at: https://engage.wildlandspa.org/calendar/event/353.
LOCATION:Black River Sanctuary- Black River Rd. entrance\, 1300 Black River Road\, Bethlehem\, PA 18015
UID:e.1888.15040
SEQUENCE:3
DTSTAMP:20260419T120750Z
URL:https://business.carboncountychamber.org/events/details/campfire-conversations-trail-tales-15040
END:VEVENT

END:VCALENDAR
