BEGIN:VCALENDAR
VERSION:2.0
PRODID:-//ChamberMaster//Event Calendar 2.0//EN
METHOD:PUBLISH
X-PUBLISHED-TTL:P3D
REFRESH-INTERVAL:P3D
CALSCALE:GREGORIAN
BEGIN:VEVENT
DTSTART:20260424T010000Z
DTEND:20260424T020000Z
X-MICROSOFT-CDO-ALLDAYEVENT:FALSE
SUMMARY:Business Expansion Webinar - 9 PM
DESCRIPTION:To RSVP\, Contact Nicki Parra at nparra.finance@gmail.com
X-ALT-DESC;FMTTYPE=text/html:<span style="font-size:20px\;"><span style="font-family:arial\;">To RSVP\, Contact Nicki Parra at&nbsp\;<a href="mailto:nparra.finance@gmail.com">nparra.finance@gmail.com</a></span></span>
LOCATION:Webinar
UID:e.1888.15755
SEQUENCE:3
DTSTAMP:20260420T214135Z
URL:https://business.carboncountychamber.org/events/details/business-expansion-webinar-9-pm-15755
END:VEVENT

END:VCALENDAR
