BEGIN:VCALENDAR
VERSION:2.0
PRODID:-//ChamberMaster//Event Calendar 2.0//EN
METHOD:PUBLISH
X-PUBLISHED-TTL:P3D
REFRESH-INTERVAL:P3D
CALSCALE:GREGORIAN
BEGIN:VEVENT
DTSTART:20260503T220000Z
DTEND:20260503T230000Z
X-MICROSOFT-CDO-ALLDAYEVENT:FALSE
SUMMARY:Breaking the Piggy Bank Webinar
DESCRIPTION:To Register\, Contact Nicki Parra at nparra.finance@gmail.com
X-ALT-DESC;FMTTYPE=text/html:<span style="font-size:20px\;"><span style="font-family:arial\;">To Register\, Contact Nicki Parra at&nbsp\;<a href="mailto:nparra.finance@gmail.com">nparra.finance@gmail.com</a></span></span>
LOCATION:Webinar
UID:e.1888.15757
SEQUENCE:3
DTSTAMP:20260423T174748Z
URL:https://business.carboncountychamber.org/events/details/breaking-the-piggy-bank-webinar-15757
END:VEVENT

END:VCALENDAR
