BEGIN:VCALENDAR
VERSION:2.0
PRODID:-//ChamberMaster//Event Calendar 2.0//EN
METHOD:PUBLISH
X-PUBLISHED-TTL:P3D
REFRESH-INTERVAL:P3D
CALSCALE:GREGORIAN
BEGIN:VEVENT
DTSTART;VALUE=DATE:20230806
DTEND;VALUE=DATE:20230807
TRANSP:TRANSPARENT
X-MICROSOFT-CDO-ALLDAYEVENT:TRUE
SUMMARY:Big Day Out - Bike\, Hike & Raft-Pocono Whitewater
DESCRIPTION:If you're seeking a BIG multisport adventure   Rafting\, Biking and Hiking   then our BIG DAY OUT is definitely for you. Check-in at Pocono Whitewater and then hop on one of our Trek bikes and embark on a 23-mile bike ride between the 1000-foot walls of the Lehigh Gorge Rail Trail. At the famous Glen Onoko in Jim Thorpe\, you'll not only relax by the Lehigh River\, but also enjoy your tasty box lunch.\n\nAfter lunch your day continues with a scenic hike to a beautiful overlook of the Lehigh River in the Pocono Mountains of Jim Thorpe. You will descend back to the Lehigh River where whitewater rafts and equipment will be ready for your arrival.\n\nYou will raft the final leg of your adventure! The Lehigh rolls and bends as you go whitewater rafting and navigate rapids past the ruins of 18th century dams\, locks and dwellings. Our friendly\, well-trained guides will accompany you every step of the way as you explore the Poconos.\n\nBUT WAIT   your BIG DAY OUT doesn't end there \n\nA delicious dinner and roaring bonfire at our Pocono Whitewater Adventure Center await your return. Your first victory drink (beer or soda) will be on us! Finally\, your day is complete and you can hang out around the bonfire and brag that you survived Pocono Whitewater's BIG DAY OUT!
X-ALT-DESC;FMTTYPE=text/html:<p><strong>If you&rsquo\;re seeking a BIG multisport adventure &ndash\; Rafting\, Biking and Hiking &ndash\;&nbsp\;</strong><strong>then our BIG DAY OUT is definitely for you.&nbsp\;</strong>Check-in at Pocono Whitewater and then hop on one of our Trek bikes and embark on a 23-mile&nbsp\;bike&nbsp\;ride between the 1000-foot walls of the&nbsp\;Lehigh Gorge Rail Trail. At the famous Glen Onoko in Jim Thorpe\, you&rsquo\;ll not only relax by the Lehigh River\, but also enjoy&nbsp\;your tasty box lunch.</p>\n\n<p>After lunch your day continues with a scenic&nbsp\;hike&nbsp\;to a beautiful overlook of the Lehigh River in the Pocono Mountains of Jim Thorpe. You will descend back to the Lehigh River where whitewater rafts and equipment will be ready for your arrival.</p>\n\n<p>You will&nbsp\;raft&nbsp\;the final leg of your adventure! The Lehigh rolls and bends as you go whitewater rafting and navigate rapids past the ruins of 18th century dams\, locks and dwellings. Our friendly\, well-trained guides will accompany you&nbsp\;every step of the way as you explore the Poconos.</p>\n\n<h3>BUT WAIT&nbsp\;&ndash\;&nbsp\;your BIG DAY OUT&nbsp\;doesn&rsquo\;t end&nbsp\;there&hellip\;</h3>\n\n<p>A delicious dinner and roaring bonfire at our Pocono Whitewater Adventure Center await your return. Your first victory drink (beer or soda) will be on us! Finally\, your day is complete and you can hang out around the bonfire and brag that you survived Pocono Whitewater&rsquo\;s&nbsp\;BIG DAY OUT!</p>\n
LOCATION:Pocono Whitewater 1519 State Route 903 Jim Thorpe\, PA 18229
UID:e.1888.12191
SEQUENCE:3
DTSTAMP:20260424T211345Z
URL:https://business.carboncountychamber.org/events/details/big-day-out-bike-hike-raft-pocono-whitewater-08-06-2023-12191
END:VEVENT

END:VCALENDAR
