BEGIN:VCALENDAR
VERSION:2.0
PRODID:-//ChamberMaster//Event Calendar 2.0//EN
METHOD:PUBLISH
X-PUBLISHED-TTL:P3D
REFRESH-INTERVAL:P3D
CALSCALE:GREGORIAN
BEGIN:VEVENT
DTSTART:20251002T153000Z
DTEND:20251002T170000Z
X-MICROSOFT-CDO-ALLDAYEVENT:FALSE
SUMMARY:AI Made Simple: Practical Tools for Small Business Success (Lunch & Learn)
DESCRIPTION:Join the Carbon Chamber & Economic Development Corporation\, proud partner of the Greater Lehigh Valley Chamber of Commerce\, for "AI Made Simple: Practical Tools for Small Business Success" with Saint & Siren Marketing on Thursday\, October 2 from 11:30 AM - 1 PM at the CCEDC Classroom!\n\n\n\nReady to make AI work for your business instead of feeling overwhelmed by it? The Saint & Siren Marketing Team will lead the discussion on marketing\, and dive into how AI can optimize operations across your company. We'll show you how to:\n\n\n	Identify the right AI tools for your business model and industry\n	 Build role-specific workflows so every team member works more efficiently\n	Automate repetitive tasks without losing the human touch\n	Improve customer experience through smarter communication and faster response times\n	Introduce the simple systems that save time\, cut costs\, and free up your staff to focus on what matters most\n\n\nYou'll leave with practical examples as well as ready-to-use prompts.  Whether you run a restaurant\, service company\, retail shop\, or office\, this session will help equip you to integrate AI in ways that truly move the needle! \n\nA light lunch and snacks will be provided. \n\n\n\nSpace is limited - 15 spots available! RSVP is required - please click the "Register" Button to sign up today!
X-ALT-DESC;FMTTYPE=text/html:<p data-olk-copy-source="MessageBody" style="color: rgb(36\, 36\, 36)\; font-family: &quot\;Segoe UI&quot\;\, &quot\;Segoe UI Web (West European)&quot\;\, -apple-system\, BlinkMacSystemFont\, Roboto\, &quot\;Helvetica Neue&quot\;\, sans-serif\; font-size: 15px\;"><span style="font-size:14px\;"><span style="font-family:arial\;">Join the Carbon Chamber &amp\; Economic Development Corporation\, proud partner of the Greater Lehigh Valley Chamber of Commerce\, for &quot\;AI Made Simple: Practical Tools for Small Business Success&quot\; with Saint &amp\; Siren Marketing on Thursday\, October 2 from 11:30 AM - 1 PM at the CCEDC Classroom!<br />\n<br />\nReady to make AI work for your business instead of feeling overwhelmed by it? The Saint &amp\; Siren Marketing Team will lead the discussion on marketing\, and dive into how AI can optimize operations across your company. We&rsquo\;ll show you how to:</span></span></p>\n\n<ul>\n	<li><span style="font-size:14px\;"><span style="font-family:arial\;">Identify the right AI tools for your business model and industry</span></span></li>\n	<li><span style="font-size:14px\;"><span style="font-family:arial\;">&#8203\;Build role-specific workflows so every team member works more efficiently</span></span></li>\n	<li><span style="font-size:14px\;"><span style="font-family:arial\;">Automate repetitive tasks without losing the human touch</span></span></li>\n	<li><span style="font-size:14px\;"><span style="font-family:arial\;">Improve customer experience through smarter communication and faster response times</span></span></li>\n	<li><span style="font-size:14px\;"><span style="font-family:arial\;">Introduce the simple systems that save time\, cut costs\, and free up your staff to focus on what matters most</span></span></li>\n</ul>\n\n<p style="color: rgb(36\, 36\, 36)\; font-family: &quot\;Segoe UI&quot\;\, &quot\;Segoe UI Web (West European)&quot\;\, -apple-system\, BlinkMacSystemFont\, Roboto\, &quot\;Helvetica Neue&quot\;\, sans-serif\; font-size: 15px\;"><span style="font-size:14px\;"><span style="font-family:arial\;">You&rsquo\;ll leave with practical examples as well as ready-to-use prompts.&nbsp\; Whether you run a restaurant\, service company\, retail shop\, or office\, this session will help equip you to integrate AI in ways that truly move the needle!&nbsp\;<br />\nA light lunch and snacks will be provided.&nbsp\;<br />\n<br />\nSpace is limited - 15 spots available! RSVP is required - please click the &quot\;Register&quot\; Button to sign up today!&nbsp\;</span></span><br />\n&nbsp\;</p>\n
LOCATION:CCEDC Classroom (137 South St.\, Lehighton PA)
UID:e.1888.15000
SEQUENCE:3
DTSTAMP:20260421T082156Z
URL:https://business.carboncountychamber.org/events/details/ai-made-simple-practical-tools-for-small-business-success-lunch-learn-15000
END:VEVENT

END:VCALENDAR
