BEGIN:VCALENDAR
VERSION:2.0
PRODID:-//ChamberMaster//Event Calendar 2.0//EN
METHOD:PUBLISH
X-PUBLISHED-TTL:P3D
REFRESH-INTERVAL:P3D
CALSCALE:GREGORIAN
BEGIN:VEVENT
DTSTART:20230820T010000Z
DTEND:20230820T033000Z
X-MICROSOFT-CDO-ALLDAYEVENT:FALSE
SUMMARY:Achilles Heart Rocks The 80's Bar
DESCRIPTION:WOW - this is some great music!!!     You need to see this group live\, they are just astoundingly good.  \n\n\n\nCome have a great dinner and then start the drinking\, dancing and rocking out with the high-energy fun duo. Sing along or just get your groove on all night!\n\nDinner starts at 4 p.m. and show begins at 9 p.m.\n\n\n\nTickets for the FREE show here: https://www.eventbrite.com/e/achillies-heart-famous-evening-of-songs-and-more-tickets-679759207087
X-ALT-DESC;FMTTYPE=text/html:<p>WOW - this is some great music!!!&nbsp\; &nbsp\; &nbsp\;You need to see this group live\, they are just astoundingly good.&nbsp\;&nbsp\;<br />\n<br />\nCome have a great dinner and then start the drinking\, dancing and rocking out with the high-energy fun duo. Sing along or just get your groove on all night!</p>\n\n<p>Dinner starts at 4 p.m. and show begins at 9 p.m.<br />\n<br />\nTickets for the FREE show here:&nbsp\;https://www.eventbrite.com/e/achillies-heart-famous-evening-of-songs-and-more-tickets-679759207087</p>\n
LOCATION:The 80's Bar 634 E. Patterson St. Lansford\, PA 18232 570-645-6091 https://www.the80sbarpa.com/
UID:e.1888.12464
SEQUENCE:3
DTSTAMP:20260424T194359Z
URL:https://business.carboncountychamber.org/events/details/achilles-heart-rocks-the-80-s-bar-08-19-2023-12464
END:VEVENT

END:VCALENDAR
