BEGIN:VCALENDAR
VERSION:2.0
PRODID:-//ChamberMaster//Event Calendar 2.0//EN
METHOD:PUBLISH
X-PUBLISHED-TTL:P3D
REFRESH-INTERVAL:P3D
CALSCALE:GREGORIAN
BEGIN:VEVENT
DTSTART:20220825T183000Z
DTEND:20220825T183500Z
X-MICROSOFT-CDO-ALLDAYEVENT:FALSE
SUMMARY:7th Inning Stretch with the CCEDC Health & Wellness Committee
DESCRIPTION:7th inning stretch\n\n\n\nThe seventh-inning stretch originated around the late 1800s as a way to combat restlessness for fans seated on hard benches during long baseball games. Today\, fans are encouraged to take a timeout during the seventh inning to stretch their muscles\, walk around and find a refreshment. Doesn't a quick walk sound good right about now?\n\nJoin us each week for a message from a local business or organization and participate in our 7th inning stretch to get you through your workday and work week!  Participation is FREE and you can join us from anywhere - Facebook live!\n\n\n\nhttps://www.facebook.com/carboncountycced
X-ALT-DESC;FMTTYPE=text/html:<strong><span style="font-size:12.0pt\;">7<sup>th</sup> inning stretch</span></strong><br />\n<br />\n<span style="color: rgb(102\, 102\, 102)\; font-family: &quot\;Helvetica Neue&quot\;\, sans-serif\; font-size: 18px\;">The seventh-inning stretch originated around the late 1800s as a way to combat restlessness for fans seated on hard benches during long baseball games. Today\, fans are encouraged to take a timeout during the seventh inning to stretch their muscles\, walk around and find a refreshment. Doesn&#39\;t a quick walk sound good right about now?<br />\nJoin us each week for a message from a local business or organization and participate in our 7th inning stretch to get you through your workday and work week!&nbsp\; Participation is FREE and you can join us from anywhere - Facebook live!</span><br />\n<br />\nhttps://www.facebook.com/carboncountycced<br />\n&nbsp\;
LOCATION:https://www.facebook.com/carboncountycced
UID:e.1888.11902
SEQUENCE:3
DTSTAMP:20260423T111705Z
URL:https://business.carboncountychamber.org/events/details/7th-inning-stretch-with-the-ccedc-health-wellness-committee-08-25-2022-11902
END:VEVENT

END:VCALENDAR
