BEGIN:VCALENDAR
VERSION:2.0
PRODID:-//ChamberMaster//Event Calendar 2.0//EN
METHOD:PUBLISH
X-PUBLISHED-TTL:P3D
REFRESH-INTERVAL:P3D
CALSCALE:GREGORIAN
BEGIN:VEVENT
DTSTART:20260606T150000Z
DTEND:20260606T200000Z
X-MICROSOFT-CDO-ALLDAYEVENT:FALSE
SUMMARY:2026 Palmerton Taste Trail
DESCRIPTION:The Carbon County Chamber & Economic Development Corporation\, proud partner of the Greater Lehigh Valley Chamber of Commerce\, is excited to host our 2nd Annual Palmerton Taste Trail on Saturday\, June 6 from 11 AM - 4 PM!\n\n\n\nThis event is designed to showcase the diverse and delicious offerings from Palmerton's business community\, bringing together residents\, visitors and businesses for an unforgettable experience and opportunity to let Palmerton shine!\n\n\n\nThis family-friendly event is open to the public   participants will receive a passport to all participating businesses\, which will guide them through the retail\, restaurants and other organizations that makeup downtown Palmerton. Each business will offer a "taste" of something local - from small bites and samples to featured menu items and creative treats all while browsing shops and getting an opportunity to explore and support our local businesses! \n\n\n\nCheck back soon for a full list of participating businesses! \n\n \n\nPassports sales are now open - secure yours for $25! Click the registration link to purchase. \n\nNote: Passports are limited\; should there be remaining passports available\, they will be for sale day-of for $30 per person. \n\n--\n\nAre you a business interested in participating in the trail? The more the merrier! Please contact Emily Sewilo at esewilo@carboncountychamber.org to learn how to get involved\, or click here to download an application. \n\nInterested in sponsoring this community initiative? Click here to download sponsorship opportunities!\n\n\n\n\n\nCancellation Policy\n\nWe understand that plans can change! If you need to cancel\, please let us know at least 48 hours in advance. After that\, our counts are finalized with our partners\, and we're unable to provide refunds or credits. We appreciate your understanding and continued support of Chamber events!
X-ALT-DESC;FMTTYPE=text/html:<div class="xdj266r x11i5rnm xat24cr x1mh8g0r x1vvkbs" style="margin: 0px\; overflow-wrap: break-word\; font-family: &quot\;Segoe UI Historic&quot\;\, &quot\;Segoe UI&quot\;\, Helvetica\, Arial\, sans-serif\; color: rgb(8\, 8\, 9)\; font-size: 15px\;"><span style="font-family:arial\;"><span style="font-size:14px\;"><span class="TextRun SCXW33430848 BCX8" data-contrast="auto" lang="EN-US" style="-webkit-user-drag: none\; -webkit-tap-highlight-color: transparent\; margin: 0px\; padding: 0px\; user-select: text\; color: rgb(0\, 0\, 0)\; font-style: normal\; white-space-collapse: preserve\; line-height: 15px\; font-variant-ligatures: none !important\;" xml:lang="EN-US"><span class="NormalTextRun SCXW33430848 BCX8" style="-webkit-user-drag: none\; -webkit-tap-highlight-color: transparent\; margin: 0px\; padding: 0px\; user-select: text\;">The Carbon County Chamber &amp\; Economic Development Corporation\, proud partner of the Greater Lehigh Valley Chamber of Commerce\, </span><span class="NormalTextRun SCXW33430848 BCX8" style="-webkit-user-drag: none\; -webkit-tap-highlight-color: transparent\; margin: 0px\; padding: 0px\; user-select: text\;">is excited to host our 2nd Annual Palmerton Taste Trail on Saturday\, June 6 from 11 AM - 4 PM!</span></span><br />\n<br />\n<span class="TextRun SCXW33430848 BCX8" data-contrast="auto" lang="EN-US" style="-webkit-user-drag: none\; -webkit-tap-highlight-color: transparent\; margin: 0px\; padding: 0px\; user-select: text\; color: rgb(0\, 0\, 0)\; font-style: normal\; white-space-collapse: preserve\; line-height: 15px\; font-variant-ligatures: none !important\;" xml:lang="EN-US"><span class="NormalTextRun SCXW33430848 BCX8" style="-webkit-user-drag: none\; -webkit-tap-highlight-color: transparent\; margin: 0px\; padding: 0px\; user-select: text\;">This event is designed to </span><span class="NormalTextRun SCXW33430848 BCX8" style="-webkit-user-drag: none\; -webkit-tap-highlight-color: transparent\; margin: 0px\; padding: 0px\; user-select: text\;">showcase</span><span class="NormalTextRun SCXW33430848 BCX8" style="-webkit-user-drag: none\; -webkit-tap-highlight-color: transparent\; margin: 0px\; padding: 0px\; user-select: text\;"> the diverse and delicious offerings from Palmerton&rsquo\;s business community\, bringing together residents\, visitors and businesses for an unforgettable experience and opportunity to let Palmerton shine!</span></span><br />\n<br />\nThis family-friendly event is open to the public &ndash\; participants will receive a passport to all participating businesses\, which will guide them through the retail\, restaurants and other organizations that makeup downtown Palmerton. Each business will offer a &quot\;taste&quot\; of something local - from small bites and samples to featured menu items and creative treats all&nbsp\;</span></span><span style="font-family:arial\;"><span style="font-size:14px\;">while browsing shops and getting an opportunity to explore and support our local businesses!&nbsp\;<br />\n<br />\n<b>Check back soon for a full list of participating businesses!&nbsp\;</b></span></span><br />\n&nbsp\;</div>\n\n<div class="xdj266r x11i5rnm xat24cr x1mh8g0r x1vvkbs" style="margin: 0px\; overflow-wrap: break-word\; font-family: &quot\;Segoe UI Historic&quot\;\, &quot\;Segoe UI&quot\;\, Helvetica\, Arial\, sans-serif\; color: rgb(8\, 8\, 9)\; font-size: 15px\;"><span style="font-family:arial\;"><span style="font-size:14px\;">Passports sales are now open - secure yours for $25! Click the registration link to purchase.&nbsp\;</span></span></div>\n\n<div class="xdj266r x11i5rnm xat24cr x1mh8g0r x1vvkbs" style="margin: 0px\; overflow-wrap: break-word\; font-family: &quot\;Segoe UI Historic&quot\;\, &quot\;Segoe UI&quot\;\, Helvetica\, Arial\, sans-serif\; color: rgb(8\, 8\, 9)\; font-size: 15px\;"><span style="font-family:arial\;"><span style="font-size:14px\;"><em>Note: Passports are limited\; should there be remaining passports available\, they will be for sale day-of for $30 per person.&nbsp\;</em><br />\n--<br />\nAre you a business interested in participating in the trail? The more the merrier! Please contact Emily Sewilo at <a href="mailto:esewilo@carboncountychamber.org">esewilo@carboncountychamber.org</a> to learn how to get involved\, or <a href="https://www.carboncountychamber.org/assets/pdf/2026+Palmerton+Taste+Trail+Application+%26amp%3B+Guidelines">click here to download an application</a><a href="https://www.carboncountychamber.org/assets/pdf/2026+Palmerton+Taste+Trail+Application+%26amp%3B+Guidelines">.</a>&nbsp\;<br />\nInterested in sponsoring this community initiative? <a href="https://www.carboncountychamber.org/assets/pdf/2026+CCEDC+Palmerton+Taste+Trail+Sponsorship+Opportunities">Click here to download sponsorship opportunities!</a></span></span></div>\n\n<div class="xdj266r x11i5rnm xat24cr x1mh8g0r x1vvkbs" style="margin: 0px\; overflow-wrap: break-word\; font-family: &quot\;Segoe UI Historic&quot\;\, &quot\;Segoe UI&quot\;\, Helvetica\, Arial\, sans-serif\; color: rgb(8\, 8\, 9)\; font-size: 15px\;"><br />\n<br />\n<span style="font-family:arial\;"><span style="font-size:14px\;"><em>Cancellation Policy<br />\nWe understand that plans can change! If you need to cancel\, please let us know at least 48 hours in advance. After that\, our counts are finalized with our partners\, and we&rsquo\;re unable to provide refunds or credits. We appreciate your understanding and continued support of Chamber events!&nbsp\;</em></span></span></div>\n
LOCATION:Downtown Palmerton\, PA
UID:e.1888.15059
SEQUENCE:3
DTSTAMP:20260420T081358Z
URL:https://business.carboncountychamber.org/events/details/2026-palmerton-taste-trail-15059
END:VEVENT

END:VCALENDAR
