BEGIN:VCALENDAR
VERSION:2.0
PRODID:-//ChamberMaster//Event Calendar 2.0//EN
METHOD:PUBLISH
X-PUBLISHED-TTL:P3D
REFRESH-INTERVAL:P3D
CALSCALE:GREGORIAN
BEGIN:VEVENT
DTSTART:20260718T160000Z
DTEND:20260718T220000Z
X-MICROSOFT-CDO-ALLDAYEVENT:FALSE
SUMMARY:2026 Carbon County Community Festival
DESCRIPTION:The Carbon County Chamber & Economic Development Corporation\, proud partner of the Greater Lehigh Valley Chamber of Commerce\, and Mauch Chunk Trust Company are excited to once again bring the Carbon County Community Festival to downtown Lehighton   this year in partnership with Lehighton Borough Parks & Recreation!\n\n\n\nThis expanded\, family-friendly celebration will span two parks and two live music stages\, creating a full-day festival experience featuring multiple bands\, craft and business vendors\, food trucks\, and activities for all ages. With entertainment happening throughout the footprint\, attendees are encouraged to explore\, connect\, and enjoy everything the day has to offer.\n\n\n\nNew this year\, festivalgoers can take part in a Lehighton Shop Local Trail and have a chance to win a local prize package\, designed to encourage foot traffic and shopping along First and Second Streets in Lehighton! Are you a business located in downtown Lehighton interested in participating in this trail? Click here to download an application!\n\n\n\nMore details   including entertainment schedules\, participating vendors\, and downtown activities   will be announced as planning continues.\n\n--\n\nInterested in sponsoring this event? Click here to learn more!\n\nInterested in being a vendor at this event? Click here to download our vendor application & instructions!
X-ALT-DESC;FMTTYPE=text/html:<p><span style="font-size:14px\;"><span style="font-family:arial\;">The Carbon County Chamber &amp\; Economic Development Corporation\, proud partner of the Greater Lehigh Valley Chamber of Commerce\, and Mauch Chunk Trust Company are&nbsp\;excited to once again bring the Carbon County Community Festival to downtown Lehighton &mdash\; this year in partnership with Lehighton Borough Parks &amp\; Recreation!<br />\n<br />\nThis expanded\, family-friendly celebration will span two parks and two live music stages\, creating a full-day festival experience featuring multiple bands\, craft and business vendors\, food trucks\, and activities for all ages. With entertainment happening throughout the footprint\, attendees are encouraged to explore\, connect\, and enjoy everything the day has to offer.<br />\n<br />\nNew this year\, festivalgoers can take part in a Lehighton Shop Local Trail and have a chance to win a local prize package\, designed to encourage foot traffic and shopping along First and Second Streets in Lehighton! Are you a business located in downtown Lehighton&nbsp\;interested in participating in this trail? <a href="https://www.carboncountychamber.org/assets/pdf/2026+-+Lehighton+Shop+Local+Trail">Click here to download an application!</a><br />\n<br />\nMore details &mdash\; including entertainment schedules\, participating vendors\, and downtown activities &mdash\; will be announced as planning continues.</span></span></p>\n\n<p><span style="font-size:14px\;"><span style="font-family:arial\;">--<br />\nInterested in sponsoring this event? <a href="https://www.carboncountychamber.org/assets/pdf/2026+CCEDC+Carbon+Community+Festival+Sponsorship+Opportunities">Click here to learn more!</a></span></span></p>\n\n<p><span style="font-size:14px\;"><span style="font-family:arial\;"><em>Interested in being a vendor at this event? <a href="https://www.carboncountychamber.org/assets/pdf/2026+Vendor+App+-+Carbon+Community+Festival+updated">Click here to download our vendor application &amp\; instructions!</a></em></span></span></p>\n
LOCATION:Colonel Jacob Weiss Park Constitution & South Street\, Lehighton
UID:e.1888.15062
SEQUENCE:3
DTSTAMP:20260420T081615Z
URL:https://business.carboncountychamber.org/events/details/2026-carbon-county-community-festival-15062
END:VEVENT

END:VCALENDAR
