BEGIN:VCALENDAR
VERSION:2.0
PRODID:-//ChamberMaster//Event Calendar 2.0//EN
METHOD:PUBLISH
X-PUBLISHED-TTL:P3D
REFRESH-INTERVAL:P3D
CALSCALE:GREGORIAN
BEGIN:VEVENT
DTSTART:20140417T213000Z
DTEND:20140417T233000Z
X-MICROSOFT-CDO-ALLDAYEVENT:FALSE
SUMMARY:2014 Jim Thorpe Visitor's Center Grand Re-Opening
DESCRIPTION:Join us at the Jim Thorpe Visitor's Center for an Open House and Grand Re-Opening Ribbon Cutting Ceremony! View new exhibits\, furnishings and technology at the inviting and historic Visitor's Center located within the Old Mauch Chunk Train Station. Light refreshments will be available.
X-ALT-DESC;FMTTYPE=text/html:<span style="font-size: 12px\;"><span style="font-family: tahoma\;">Join us at the Jim Thorpe Visitor&#39\;s Center for an Open House and Grand Re-Opening Ribbon Cutting Ceremony! View new exhibits\, furnishings and technology at the inviting and historic Visitor&#39\;s Center located within the Old Mauch Chunk Train Station. Light refreshments will be available.</span></span>
LOCATION:Train Station 2 Lehigh Ave. Jim Thorpe\, PA 18229
UID:e.1888.6
SEQUENCE:3
DTSTAMP:20260421T082639Z
URL:https://business.carboncountychamber.org/events/details/2014-jim-thorpe-visitor-s-center-grand-re-opening-6
END:VEVENT

END:VCALENDAR
