BEGIN:VCALENDAR
VERSION:2.0
PRODID:-//ChamberMaster//Event Calendar 2.0//EN
METHOD:PUBLISH
X-PUBLISHED-TTL:P3D
REFRESH-INTERVAL:P3D
CALSCALE:GREGORIAN
BEGIN:VEVENT
DTSTART;VALUE=DATE:20230812
DTEND;VALUE=DATE:20230813
TRANSP:TRANSPARENT
X-MICROSOFT-CDO-ALLDAYEVENT:TRUE
SUMMARY:1-Day Paddles & Battles - Whitewater Rafting & Paintball-Pocono Whitewater
DESCRIPTION:Are you looking for two outdoor adventures for one great rate?  Check out our one-day battles and paddles trip. You can go dam release whitewater rafting or family style whitewater rafting on the Lehigh River in the morning. Later that evening\, you'll head out to the paintball fields to play Skirmish Nights from 5pm to 8:30pm on our award-winning paintball maps. Ages 10 and up are welcome.
X-ALT-DESC;FMTTYPE=text/html:Are you looking for two outdoor adventures for one great rate?&nbsp\; Check out our one-day battles and paddles trip. You can go&nbsp\;<a href="https://www.poconowhitewater.com/lehigh-gorge-dam-release/" rel="noopener" target="_blank">dam release whitewater rafting</a>&nbsp\;or&nbsp\;<a href="https://www.poconowhitewater.com/family-style-whitewater-rafting/" rel="noopener" target="_blank">family style whitewater rafting</a>&nbsp\;on the Lehigh River in the morning. Later that evening\, you&rsquo\;ll head out to the paintball fields to play&nbsp\;<a href="https://www.skirmish.com/" rel="noopener" target="_blank">Skirmish Nights</a>&nbsp\;from 5pm to 8:30pm on our award-winning paintball maps. Ages 10 and up are welcome.
LOCATION:Pocono Whitewater 1519 State Route 903 Jim Thorpe\, PA 18229
UID:e.1888.12234
SEQUENCE:3
DTSTAMP:20260424T211323Z
URL:https://business.carboncountychamber.org/events/details/1-day-paddles-battles-whitewater-rafting-paintball-pocono-whitewater-08-12-2023-12234
END:VEVENT

END:VCALENDAR
