BEGIN:VCALENDAR
VERSION:2.0
PRODID:-//ChamberMaster//Event Calendar 2.0//EN
METHOD:PUBLISH
X-PUBLISHED-TTL:P3D
REFRESH-INTERVAL:P3D
CALSCALE:GREGORIAN
BEGIN:VEVENT
DTSTART:20250724T140000Z
DTEND:20250724T150000Z
X-MICROSOFT-CDO-ALLDAYEVENT:FALSE
SUMMARY:Wildlands Conservancy - PreK Pathfinders: Creek Explorers!
DESCRIPTION:For children aged 3-5 & their grown-ups. Don't miss this exciting opportunity to connect with nature and discover the wonders of aquatic life\, as we wade in to uncover the ecosystem beneath the water surface. Questions? Contact: Nicole Landis\, nlandis@wildlandspa.org. Event is free\; online registration required: https://engage.wildlandspa.org/calendar/event/205.
X-ALT-DESC;FMTTYPE=text/html:For children aged 3-5 &amp\; their grown-ups. Don&rsquo\;t miss this exciting opportunity to connect with nature and discover the wonders of aquatic life\, as we wade in to uncover the ecosystem beneath the water surface. Questions? Contact: Nicole Landis\, nlandis@wildlandspa.org. Event is free\; online registration required: https://engage.wildlandspa.org/calendar/event/205.
LOCATION:Wayne A. Grube Park\, 1200 Willowbrook Road\, Northampton\, PA 18067
UID:e.1888.14941
SEQUENCE:3
DTSTAMP:20260421T155941Z
URL:http://business.carboncountychamber.org/events/details/wildlands-conservancy-prek-pathfinders-creek-explorers-14941
END:VEVENT

END:VCALENDAR
