BEGIN:VCALENDAR
VERSION:2.0
PRODID:-//ChamberMaster//Event Calendar 2.0//EN
METHOD:PUBLISH
X-PUBLISHED-TTL:P3D
REFRESH-INTERVAL:P3D
CALSCALE:GREGORIAN
BEGIN:VEVENT
DTSTART:20250730T130000Z
DTEND:20250730T200000Z
X-MICROSOFT-CDO-ALLDAYEVENT:FALSE
SUMMARY:Wildlands Conservancy – Explorer Day Camp – July 30
DESCRIPTION:For students K-5th: Unearth the thrill and beauty of nature found in forests\, rivers\, & parks! Join us for a day of exploration\, experimentation\, & creativity at our popular Summer Day Camp. Activities will range from survival skills\, wildlife\, art\, & science\, for a full day of fun. Questions? Contact: Arianna Kohler\, AKohler@wildlandspa.org. Event is free\; pre-registration is required at: https://engage.wildlandspa.org/calendar/event/273.
X-ALT-DESC;FMTTYPE=text/html:For students K-5th: Unearth the thrill and beauty of nature found in forests\, rivers\, &amp\; parks! Join us for a day of exploration\, experimentation\, &amp\; creativity at our popular Summer Day Camp. Activities will range from survival skills\, wildlife\, art\, &amp\; science\, for a full day of fun. Questions? Contact: Arianna Kohler\, AKohler@wildlandspa.org. Event is free\; pre-registration is required at: https://engage.wildlandspa.org/calendar/event/273.
LOCATION:Trexler Nature Preserve\, Environmental Education Center\, 4935 Orchard Road\, Schnecksville\, PA 18078
UID:e.1888.14943
SEQUENCE:3
DTSTAMP:20260421T155818Z
URL:http://business.carboncountychamber.org/events/details/wildlands-conservancy-explorer-day-camp-july-30-14943
END:VEVENT

END:VCALENDAR
