BEGIN:VCALENDAR
VERSION:2.0
PRODID:-//ChamberMaster//Event Calendar 2.0//EN
METHOD:PUBLISH
X-PUBLISHED-TTL:P3D
REFRESH-INTERVAL:P3D
CALSCALE:GREGORIAN
BEGIN:VEVENT
DTSTART:20250710T153000Z
DTEND:20250710T170000Z
X-MICROSOFT-CDO-ALLDAYEVENT:FALSE
SUMMARY:First Commonwealth Lehighton Financial Center Grand Opening & Ribbon Cutting
DESCRIPTION:Join us for a special celebration hosted by the Carbon Chamber & Economic Development Corporation\, in proud partnership with the Greater Lehigh Valley Chamber of Commerce\, as we unveil the brand-new First Commonwealth Federal Credit Union Financial Center in Lehighton\, PA\, on Thursday\, July 10\, from 11:30 AM -1 PM (11:45 AM Ribbon Cutting)! \n\nThis event is free and open to the public\, and promises a memorable experience with light refreshments\, exciting giveaways\, and plenty of opportunities to network and connect with First Commonwealth leaders and team members.\n\nTake a tour of the cutting-edge Financial Center\, designed with member convenience in mind featuring a spacious lobby\, modern service areas\, and two full-service drive-thru lanes for efficient\, easy banking. Meet the Lehighton Financial Center team\, chat with First Commonwealth leadership and Board Members\, and interact with the experts from Boyle Construction who helped bring this beautiful new space to life.\n\nThis grand opening is the perfect opportunity to discover all that the Financial Center has to offer\, so don't miss out!\n\n\n\nMembers can also enjoy an open house throughout the day come see how this new center will help make banking more convenient and accessible for everyone in the community.\n\n\n\n--\n\nAbout First Commonwealth Federal Credit Union: \n\nFirst Commonwealth is a member-owned\, not-for-profit cooperative financial institution serving over 95\,000 members and businesses. Their mission is to empower your pursuit of financial happiness by offering a consumer-friendly alternative to banking. \n\nLearn more at www.firstcomcu.org!
X-ALT-DESC;FMTTYPE=text/html:<p><span style="font-size:14px\;"><span style="font-family:arial\;">Join us for a special celebration hosted by the Carbon Chamber &amp\; Economic Development Corporation\, in proud partnership with the Greater Lehigh Valley Chamber of Commerce\, as we unveil the brand-new First Commonwealth Federal Credit Union Financial Center in Lehighton\, PA\, on Thursday\, July 10\, from 11:30 AM -1&nbsp\;PM (11:45 AM Ribbon Cutting)!&nbsp\;</span></span></p>\n\n<p><span style="font-size:14px\;"><span style="font-family:arial\;">This&nbsp\;event is&nbsp\;</span></span><span style="font-family: arial\; font-size: 14px\;">free and open to the public\, and</span><span style="font-size:14px\;"><span style="font-family:arial\;"> promises a memorable experience with light refreshments\, exciting giveaways\, and plenty of opportunities to network and connect with First Commonwealth leaders and team members.</span></span></p>\n\n<p><span style="font-size:14px\;"><span style="font-family:arial\;">Take a tour of the cutting-edge Financial Center\, designed with member convenience in mind&mdash\;featuring a spacious lobby\, modern service areas\, and two full-service drive-thru lanes for efficient\, easy banking. Meet the Lehighton Financial Center team\, chat with First Commonwealth leadership and Board Members\, and interact with the experts from Boyle Construction who helped bring this beautiful new space to life.</span></span></p>\n\n<p><span style="font-size:14px\;"><span style="font-family:arial\;">This grand opening is the perfect opportunity to discover all that the Financial Center has to offer\, so don&rsquo\;t miss out!<br />\n<br />\nMembers can also enjoy an open house throughout the day&mdash\;come see how this new center will help make banking more convenient and accessible for everyone in the community.<br />\n<br />\n--</span></span></p>\n\n<p><span style="font-size:14px\;"><span style="font-family:arial\;"><em><strong>About First Commonwealth Federal Credit Union:&nbsp\;</strong></em></span></span></p>\n\n<p><span style="font-size:14px\;"><span style="font-family:arial\;">First Commonwealth is a member-owned\, not-for-profit cooperative financial institution serving over 95\,000 members and businesses. Their mission is to empower your pursuit of financial happiness by offering&nbsp\;a consumer-friendly alternative to banking.&nbsp\;</span></span></p>\n\n<p><span style="font-size:14px\;"><span style="font-family:arial\;">Learn more at&nbsp\;<a href="http://www.firstcomcu.org">www.firstcomcu.org</a>!</span></span></p>\n
LOCATION:1235 Blakeslee Blvd Dr E\, Lehighton\, PA 18235
UID:e.1888.14944
SEQUENCE:3
DTSTAMP:20260421T161521Z
URL:http://business.carboncountychamber.org/events/details/first-commonwealth-lehighton-financial-center-grand-opening-ribbon-cutting-14944
END:VEVENT

END:VCALENDAR
