BEGIN:VCALENDAR
VERSION:2.0
PRODID:-//ChamberMaster//Event Calendar 2.0//EN
METHOD:PUBLISH
X-PUBLISHED-TTL:P3D
REFRESH-INTERVAL:P3D
CALSCALE:GREGORIAN
BEGIN:VEVENT
DTSTART:20251009T123000Z
DTEND:20251009T150000Z
X-MICROSOFT-CDO-ALLDAYEVENT:FALSE
SUMMARY:2025 State of the County **SOLD OUT**
DESCRIPTION:Registration for this event is now closed\; this event is SOLD OUT! To be waitlisted in case of cancellations\, please contact Kylie Adams-Weiss at kyliea@lehighvalleychamber.org.\n\nThe Carbon Chamber & Economic Development Corporation\, with St. Luke's Carbon & Greater Lehigh Valley Realtors Association\, is proud to present the 2025 State of the County! \n\n\n\nJoin the Carbon Chamber & Economic Development\, a proud partner of the Greater Lehigh Valley Chamber of Commerce\, on Thursday\, October 9th at Blue Mountain Resorts for their annual State of the County Address. Come out for a delicious breakfast\, networking and opportunity to interact with other like-minded business and community leaders\, followed by an informative presentation by Carbon County leaders who will review the past 12 months and look ahead at what is in store for our entire County. This event will highlight the accomplishments and challenges faced by County Government\, our residents\, businesses and community partners as well as look forward to the future to continue to build a community that is a great place to live\, work and play!  \n\n \n\nAgenda\n\n8:30am - 9:00am Networking\, Registration and Breakfast\n\n9:00am - CCEDC Intro and Sponsor Recognition\n\n\n\nSpeakers (9:15-10:45 am)\n\nChamber of Commerce Update: CCEDC President\, Pat Reilly\n\nCarbon County Commissioners Report\, Michael Sofranko\n\nReal Estate: Greater Lehigh Valley Realtors Association\, Justin Porembo\n\nTourism: Pocono Mountain Visitors Bureau\, Marlyn Kissner\n\nEconomic Development: Jared Soto\, CCEDC\n\nCCEDC Closing remarks and adjourn\n\n\n\n\n\n\n\nCancellation Policy\n\nWe understand that plans can change! If you need to cancel\, please let us know at least 48 hours in advance. After that\, our counts are finalized with our partners\, and we're unable to provide refunds or credits. We appreciate your understanding and continued support of Chamber events!
X-ALT-DESC;FMTTYPE=text/html:<p><span style="font-size:14px\;"><span style="font-family:arial\;"><font color="#ff0000"><span style="background-color: rgb(255\, 255\, 0)\;"><i>Registration for this event is now closed\; this event is&nbsp\;<strong>SOLD OUT!</strong>&nbsp\;To be waitlisted in case of cancellations\, please contact Kylie Adams-Weiss at <a href="mailto:kyliea@lehighvalleychamber.org">kyliea@lehighvalleychamber.org</a>.</i></span></font></span></span></p>\n\n<p><span style="font-size:14px\;"><span style="font-family:arial\;">The Carbon Chamber &amp\; Economic Development Corporation\,&nbsp\;with St. Luke&#39\;s Carbon &amp\; Greater Lehigh Valley Realtors Association\, is proud to present the 2025 State of the County!&nbsp\;<br />\n<br />\nJoin the Carbon Chamber &amp\; Economic Development\, a proud partner of the Greater Lehigh Valley Chamber of Commerce\, on Thursday\, October 9th at Blue Mountain Resorts for their annual State of the County Address. Come out for a delicious breakfast\, networking and opportunity to interact with other like-minded business and community leaders\, followed by an informative presentation by Carbon County leaders who will review the past 12 months and look ahead at what is in store for our entire County. This event will highlight the accomplishments and challenges faced by County Government\, our residents\, businesses and community partners as well as look forward to the future to continue to build a community that is a great place to live\, work and play!&nbsp\;&nbsp\;<br />\n&nbsp\;<br />\n<strong>Agenda</strong><br />\n8:30am - 9:00am Networking\, Registration and Breakfast<br />\n9:00am - CCEDC Intro and Sponsor Recognition<br />\n<br />\n<strong>Speakers (9:15-10:45 am)</strong><br />\nChamber of Commerce Update: CCEDC President\, Pat Reilly<br />\nCarbon County Commissioners Report\, Michael Sofranko<br />\nReal Estate: Greater Lehigh Valley Realtors Association\, Justin Porembo<br />\nTourism: Pocono Mountain Visitors Bureau\, Marlyn&nbsp\;Kissner<br />\nEconomic Development: Jared Soto\, CCEDC</span></span></p>\n\n<p><span style="font-size:14px\;"><span style="font-family:arial\;">CCEDC Closing remarks and adjourn<br />\n<br />\n<br />\n<br />\n<b style="color: rgb(0\, 0\, 0)\; font-family: Arial\, Helvetica\, sans-serif\; font-size: 14.6667px\;"><i data-olk-copy-source="MessageBody">Cancellation Policy</i></b><br />\n<i style="color: rgb(0\, 0\, 0)\; font-family: Arial\, Helvetica\, sans-serif\; font-size: 14.6667px\;">We understand that plans can change! If you need to cancel\, please let us know at least 48 hours in advance. After that\, our counts are finalized with our partners\, and we&rsquo\;re unable to provide refunds or credits. We appreciate your understanding and continued support of Chamber events!&nbsp\;</i></span></span></p>\n
LOCATION:Blue Mountain Resort 1660 Blue Mountain Drive\, Palmerton
UID:e.1888.14625
SEQUENCE:3
DTSTAMP:20260421T082911Z
URL:http://business.carboncountychamber.org/events/details/2025-state-of-the-county-sold-out-14625
END:VEVENT

END:VCALENDAR
